BEGIN:VCALENDAR
VERSION:2.0
PRODID:-//OpenmicFinland.fi - ECPv6.15.20//NONSGML v1.0//EN
CALSCALE:GREGORIAN
METHOD:PUBLISH
X-WR-CALNAME:OpenmicFinland.fi
X-ORIGINAL-URL:https://www.openmicfinland.fi
X-WR-CALDESC:Events for OpenmicFinland.fi
REFRESH-INTERVAL;VALUE=DURATION:PT1H
X-Robots-Tag:noindex
X-PUBLISHED-TTL:PT1H
BEGIN:VTIMEZONE
TZID:Europe/Helsinki
BEGIN:DAYLIGHT
TZOFFSETFROM:+0200
TZOFFSETTO:+0300
TZNAME:EEST
DTSTART:20250330T010000
END:DAYLIGHT
BEGIN:STANDARD
TZOFFSETFROM:+0300
TZOFFSETTO:+0200
TZNAME:EET
DTSTART:20251026T010000
END:STANDARD
BEGIN:DAYLIGHT
TZOFFSETFROM:+0200
TZOFFSETTO:+0300
TZNAME:EEST
DTSTART:20260329T010000
END:DAYLIGHT
BEGIN:STANDARD
TZOFFSETFROM:+0300
TZOFFSETTO:+0200
TZNAME:EET
DTSTART:20261025T010000
END:STANDARD
BEGIN:DAYLIGHT
TZOFFSETFROM:+0200
TZOFFSETTO:+0300
TZNAME:EEST
DTSTART:20270328T010000
END:DAYLIGHT
BEGIN:STANDARD
TZOFFSETFROM:+0300
TZOFFSETTO:+0200
TZNAME:EET
DTSTART:20271031T010000
END:STANDARD
END:VTIMEZONE
BEGIN:VEVENT
DTSTART;TZID=Europe/Helsinki:20260423T170000
DTEND;TZID=Europe/Helsinki:20260423T210000
DTSTAMP:20260423T014519
CREATED:20250912T092040Z
LAST-MODIFIED:20260107T224955Z
UID:10002217-1776963600-1776978000@www.openmicfinland.fi
SUMMARY:Käpylän Kylätalo Jam @ Helsinki
DESCRIPTION:📍 Käpylän Kylätalo\, Pohjolankatu 3\, 00610 Helsinki\n🕖 Thursdays\, typically 17:00–21:00\n🎟 Free entry \nWarm and welcoming Thursday jams in the heart of Käpylä! 🪕\nThese cozy acoustic jam sessions bring together local musicians and music lovers for informal evenings of playing\, singing\, and connecting. 🎸🥁 \n\n🎤 Open to all – bring your own instrument or voice and join in!\n🎶 Most sessions revolve around folk\, acoustic\, and traditional music – but spontaneity is always welcome.\n✨ Hosted in Käpylä’s charming community house\, the vibe is relaxed and creative.\n\n💫 Come as you are and enjoy the unplugged magic.\n📅 Follow Käpylän Kylätalo on Facebook for updates on upcoming dates. \n#OpenMicFinland #MusicJams #Helsiki #jamit \nℹ️ Open Mic Finland is an independent information hub and does not organise this event.Follow Open Mic Finland to explore more open mics\, jams\, and creative stages across Finland. \n➡ Follow updates: Open Mic Finland Facebook
URL:https://www.openmicfinland.fi/event/__trashed-2/2026-04-23/
LOCATION:Käpylän Kylätalo\, Pohjolankatu 3\, Helsinki\, 00610\, Finland
CATEGORIES:Music Jams
END:VEVENT
BEGIN:VEVENT
DTSTART;TZID=Europe/Helsinki:20260423T180000
DTEND;TZID=Europe/Helsinki:20260423T210000
DTSTAMP:20260423T014519
CREATED:20250910T110254Z
LAST-MODIFIED:20260210T193847Z
UID:10004016-1776967200-1776978000@www.openmicfinland.fi
SUMMARY:Storytelling Open Mic @ Vantaa
DESCRIPTION:**Storytelling Open Mic @ Vantaa** \n📍 Kaupunkikulttuurikeskus Mosaikki\, Kivistö\, Vantaa\n📅 Selected Thursdays:| 18:00–21:00\n🎟️ Free entry \nStorytelling Open Mic in Vantaa invites everyone to share — tell a story from your culture\, your life\, or even something imagined. Funny or sad\, true or made-up — the stage is open for voices of every kind. \n✨ What to expect:\n🎤 10-minute slots for storytellers (sign up in advance via mosaikki@vantaa.fi)\n📖 Stories can be improvised or prepared\, in English or Finnish\n🌍 Inclusive and supportive community\n🎶 Hosted by musician & artist **Annie Trippah** \nBring your friends\, listen\, share\, and enjoy an evening of stories at Mosaikki. \n#OpenMicFinland #Vantaa #Storytelling \n➡ Follow updates: Open Mic Finland Facebook
URL:https://www.openmicfinland.fi/event/storytelling-open-mic-vantaa/2026-04-23/
LOCATION:Kaupunkikulttuurikeskus Mosaikki\, Vantaankoskentie 69\, Vantaa\, 01700\, Finland
CATEGORIES:Open Mic (General)
END:VEVENT
BEGIN:VEVENT
DTSTART;TZID=Europe/Helsinki:20260423T190000
DTEND;TZID=Europe/Helsinki:20260423T220000
DTSTAMP:20260423T014519
CREATED:20250910T092204Z
LAST-MODIFIED:20251224T221216Z
UID:10002268-1776970800-1776981600@www.openmicfinland.fi
SUMMARY:Huopis Jazz´n Jam @Helsinki
DESCRIPTION:Huopis Jazz’n Jam @ Helsinki \n📍 Pub Huopis\, Paciuksenkaari 15\, 00270 Helsinki\n🗓️ Thursdays | 19:00–22:00\n🎟️ Free entry \nExperience **Huopis Jazz’n Jam in Helsinki* — a Thursday night filled with live jazz and open jams. The house band sets the groove\, and musicians are welcome to join in. A relaxed pub atmosphere with warm vibes. \n**What to expect:**\n🎷 Live jazz with the house band\n🎶 Open jam opportunities for musicians\n🍻 Drinks and pub atmosphere\n✨ Friendly Thursday night gathering \nCome to listen\, jam along\, or just enjoy the evening vibe! \n#OpenMicFinland #Helsinki #MusicJam #jamit \nℹ️ Open Mic Finland is an independent information hub and does not organise this event.Follow Open Mic Finland to explore more open mics\, jams\, and creative stages across Finland. \n➡ Follow updates: Open Mic Finland Facebook
URL:https://www.openmicfinland.fi/event/huopis-jazzn-jam-helsinki/2026-04-23/
LOCATION:Pub Huopis\, Paciuksenkaari 15\, Helsinki\, 00270\, Finland
CATEGORIES:Music Jams
END:VEVENT
BEGIN:VEVENT
DTSTART;TZID=Europe/Helsinki:20260423T190000
DTEND;TZID=Europe/Helsinki:20260423T235900
DTSTAMP:20260423T014519
CREATED:20260107T230941Z
LAST-MODIFIED:20260107T231512Z
UID:10003461-1776970800-1776988740@www.openmicfinland.fi
SUMMARY:KivikasaKlubi Jam @ Helsinki
DESCRIPTION:🕒 When: Selected Thursdays\, 19:00–00:00 (check the calendar for exact dates)\n📍 Where: Boothill Rock Club\, Lönnrotinkatu 25\, Helsinki\n🎤 Format: The night is all about spontaneity – musicians and singers sign up\, rotate on stage\, and create unique moments together. Expect blues\, rock\, folk\, funk\, and surprises.\n🎸 Instruments: Backline available on site; feel free to bring your own instrument too.\n✨ Vibe: Relaxed\, playful\, and supportive – known for laughter\, energy\, and creativity.\n💸 Cost: Free entry.\n\nKivikasa Klubi has become a true meeting place for Helsinki’s musicians and music lovers – every jam is different\, and every night brings new connections. 🎶 \n#OpenMicFinland #Helsinki #Misicjam #Jamit \nℹ️ Open Mic Finland is an independent information hub and does not organise this event.Follow Open Mic Finland to explore more open mics\, jams\, and creative stages across Finland. \n➡ Follow updates: Open Mic Finland Facebook
URL:https://www.openmicfinland.fi/event/kivikasa-klubi-boothill-rock-club-2/2026-04-23/
LOCATION:Boothill Rock Club\, Lönnrotinkatu 25\, Helsinki\, 00180
CATEGORIES:Music Jams
END:VEVENT
BEGIN:VEVENT
DTSTART;TZID=Europe/Helsinki:20260423T200000
DTEND;TZID=Europe/Helsinki:20260423T235900
DTSTAMP:20260423T014519
CREATED:20260107T232556Z
LAST-MODIFIED:20260422T064441Z
UID:10004425-1776974400-1776988740@www.openmicfinland.fi
SUMMARY:Maanalaisen Jam Night @ Tampere
DESCRIPTION:Maanalaisen Jam Night @ Tampere\n\n🕖 When: Selected Thursdays from 20:00 (check current schedule)\n📍 Where: Kulttuurikeskus Maanalainen\, Itsenäisyydenkatu 2\, Tampere\n🎶 Format: The evening kicks off with a house band set\, after which the stage is open for jamming. Singers and instrumentalists are welcome to join in – bring your own instrument if you wish\, or use what’s available on site.\n💸 Cost: Free entry\n\nA relaxed underground jam session in Tampere where musicians\, singers\, and listeners meet for an open evening of live music. Everyone is welcome to take part or simply enjoy the atmosphere! \n#openmicfinland #Tampere #jamnight #livemusic #Jamit \nℹ️ Open Mic Finland is an independent information hub and does not organise this event.Follow Open Mic Finland to explore more open mics\, jams\, and creative stages across Finland. \n➡ Follow updates: Open Mic Finland Facebook
URL:https://www.openmicfinland.fi/event/maanalainen-jam-night-maanalainen-tampere-2-2-2/2026-04-23/
LOCATION:Maanalainen\, Itsenäisyydenkatu 2\, Tampere\, Tampere\, 33500\, Finland
CATEGORIES:Music Jams
END:VEVENT
BEGIN:VEVENT
DTSTART;TZID=Europe/Helsinki:20260423T200000
DTEND;TZID=Europe/Helsinki:20260423T235900
DTSTAMP:20260423T014519
CREATED:20260310T204956Z
LAST-MODIFIED:20260310T204956Z
UID:10004386-1776974400-1776988740@www.openmicfinland.fi
SUMMARY:Storyville Jam Night @ Helsinki
DESCRIPTION:Storyville Jam Night @ Helsinki📍 Museokatu 8\, 00100 Helsinki🕕 Selected Thursdays| 20- 24🎟 Free entry \nExperience Storyville Jam Night in Helsinki – every Thursday the legendary stage opens for musicians\, singers and music lovers. Free entry\, live music and warm vibes \nWhat to expect:🎤 Welcoming stage for musicians and singers🎶 Live jams with the house band🍷 Drinks available at the bar✨ Warm\, vibrant atmosphere \nCome to share your song\, join the jam\, or just enjoy the energy in the audience. \n#OpenMicFinland #Helsinki #MusicJam #Jamit \n➡ Follow updates: Open Mic Finland Facebook \nℹ This event is organized by the venue/host.OpenmicFinland.fi works as an information hub for open mic and jam events across Finland.
URL:https://www.openmicfinland.fi/event/storyville-jam-night-helsinki-2/2026-04-23/
LOCATION:Storyville\, Museokatu 8\, 00100 Helsinki\, Helsinki\, 00100\, Finland
CATEGORIES:Music Jams
END:VEVENT
END:VCALENDAR