BEGIN:VCALENDAR
VERSION:2.0
PRODID:-//OpenmicFinland.fi - ECPv6.15.20//NONSGML v1.0//EN
CALSCALE:GREGORIAN
METHOD:PUBLISH
X-WR-CALNAME:OpenmicFinland.fi
X-ORIGINAL-URL:https://www.openmicfinland.fi
X-WR-CALDESC:Events for OpenmicFinland.fi
REFRESH-INTERVAL;VALUE=DURATION:PT1H
X-Robots-Tag:noindex
X-PUBLISHED-TTL:PT1H
BEGIN:VTIMEZONE
TZID:Europe/Helsinki
BEGIN:DAYLIGHT
TZOFFSETFROM:+0200
TZOFFSETTO:+0300
TZNAME:EEST
DTSTART:20250330T010000
END:DAYLIGHT
BEGIN:STANDARD
TZOFFSETFROM:+0300
TZOFFSETTO:+0200
TZNAME:EET
DTSTART:20251026T010000
END:STANDARD
BEGIN:DAYLIGHT
TZOFFSETFROM:+0200
TZOFFSETTO:+0300
TZNAME:EEST
DTSTART:20260329T010000
END:DAYLIGHT
BEGIN:STANDARD
TZOFFSETFROM:+0300
TZOFFSETTO:+0200
TZNAME:EET
DTSTART:20261025T010000
END:STANDARD
BEGIN:DAYLIGHT
TZOFFSETFROM:+0200
TZOFFSETTO:+0300
TZNAME:EEST
DTSTART:20270328T010000
END:DAYLIGHT
BEGIN:STANDARD
TZOFFSETFROM:+0300
TZOFFSETTO:+0200
TZNAME:EET
DTSTART:20271031T010000
END:STANDARD
END:VTIMEZONE
BEGIN:VEVENT
DTSTART;TZID=Europe/Helsinki:20260426T170000
DTEND;TZID=Europe/Helsinki:20260426T200000
DTSTAMP:20260426T015246
CREATED:20251122T223121Z
LAST-MODIFIED:20260210T192329Z
UID:10004010-1777222800-1777233600@www.openmicfinland.fi
SUMMARY:Ruusun Open Mic @ Helsinki
DESCRIPTION:**Ruusun Open Mic @ Helsinki** \n📍 Restaurant Sörkan Ruusu\, Pääskylänrinne 3\, 00500 Helsinki\n📅 22.02|29.03|26.04|31.05.2026\n🕔 17:00 – 20:00\n🎟 Free entry \nEnjoy an inspiring evening of poetry\, storytelling\, spoken word and performance at Sörkan Ruusu.\nWarm-up acts start the night\, followed by the main show — then it’s your turn on the open mic! \n**What to expect:**\n– 🌹 Friendly\, inclusive atmosphere\n– 🎤 Open mic sign-up during the first break\n– 📝 Perform texts\, songs\, or stories in any language\n– 🎸 Instruments welcome (bring copyright-free material)\n– ⏱ 4-minute slots so everyone gets a chance \nA cosy Sunday gathering for word lovers and performers alike. \n#OpenMicFinland #SpokenWord #Helsinki \nℹ️ **Open Mic Finland is an independent information hub and does not organise this event.** \n➡ Follow updates: Open Mic Finland Facebook
URL:https://www.openmicfinland.fi/event/ruusun-open-mic-helsinki-2/2026-04-26/
LOCATION:Sörkan Ruusu\, Pääskylänrinne 3\, 00500 Helsinki\, Helsinki\, 00500\, Finland
CATEGORIES:Open Mic (General)
END:VEVENT
BEGIN:VEVENT
DTSTART;TZID=Europe/Helsinki:20260426T190000
DTEND;TZID=Europe/Helsinki:20260426T220000
DTSTAMP:20260426T015246
CREATED:20250903T152431Z
LAST-MODIFIED:20260310T203516Z
UID:10004382-1777230000-1777240800@www.openmicfinland.fi
SUMMARY:Pub Pikku Pete Jam Night @ Ylöjärvi
DESCRIPTION:  \n📍 Pub Pikku Pete\, Asemantie 1\, 33470 Ylöjärvi\n🗓 Sunday evenings | 19:00–22:00\n🎟 Free entry \nExperience Pub Pikku Pete Jam Night in Ylöjärvi – an open jam where everyone is welcome to join the music. Sign up on arrival\, bring your instrument\, or simply enjoy the live performances in a cozy pub setting. \n*What to expect:*\n– 🎤 Open jam stage for all musicians and singers\n– 🎶 Live music in a relaxed “living-room” atmosphere\n– 🎱 Extras: billiards\, karaoke\, bingo\, and more\n– 🍻 Drinks\, friendly vibe\, and local community spirit \nCome as you are – join the jam\, sing\, play\, or just enjoy the warm and familiar pub atmosphere. \n#OpenMicFinland #Ylöjärvi #MusicJam #Jamit \n→ Follow updates: [Open Mic Finland Facebook] (https://www.facebook.com/openmicfinland) \nℹ️ This event is organized by the venue/host.\nOpenmicFinland.fi works as an information hub for open mic and jam events across Finland. \n➡ Follow updates: Open Mic Finland Facebook
URL:https://www.openmicfinland.fi/event/pub-pikku-pete-jam-night-pub-pikku-pete-ylojarvi/2026-04-26/
LOCATION:Pub Pikku Pete\, Asemantie 1\, Ylöjärvi\, 33470\, Finland
CATEGORIES:Music Jams
END:VEVENT
BEGIN:VEVENT
DTSTART;TZID=Europe/Helsinki:20260426T190000
DTEND;TZID=Europe/Helsinki:20260426T230000
DTSTAMP:20260426T015246
CREATED:20250829T022952Z
LAST-MODIFIED:20250929T200334Z
UID:10001930-1777230000-1777244400@www.openmicfinland.fi
SUMMARY:Nousuvesi Jam Night @ Espoo
DESCRIPTION:**Nousuvesi Jam Night @ Espoo** \n📍 Nousuvesi\, Merenkäynti 3\, 02320 Espoo\n🗓 Every Sunday | 19:00–23:00\n💸 Free entry \nExperience Nousuvesi Jam Night in Espoo — an open jam evening welcoming musicians\, singers\, and music lovers. Free entry\, live music\, and relaxed vibes. \nStep into the unique Nousuvesi stage in Espoo — a friendly spot where the stage opens every Sunday for live jams and creative energy. \n**What to expect:**\n🎤 Open stage for singers and musicians\n🎸 Live jams with a mix of local players\n🍻 Drinks and light refreshments available\n✨ Friendly\, creative atmosphere \nCome to share your song\, join the jam\, or just enjoy the energy in the audience. \n#OpenMicFinland #Espoo #MusicJam \nℹ️ Open Mic Finland is an independent information hub and does not organise this event.Follow Open Mic Finland to explore more open mics\, jams\, and creative stages across Finland. \n➡ Follow updates: Open Mic Finland Facebook
URL:https://www.openmicfinland.fi/event/high-tide-sunday-jam-6/2026-04-26/
LOCATION:Pub Nousuvesi\, Merenkäynti 3\, Espoo\, 02320\, Finland
CATEGORIES:Music Jams
END:VEVENT
BEGIN:VEVENT
DTSTART;TZID=Europe/Helsinki:20260426T190000
DTEND;TZID=Europe/Helsinki:20260426T235900
DTSTAMP:20260426T015246
CREATED:20260226T092500Z
LAST-MODIFIED:20260226T093236Z
UID:10004127-1777230000-1777247940@www.openmicfinland.fi
SUMMARY:Music Jams Helsinki @ Helsinki
DESCRIPTION:📍 Bar Itän Tähti\, Asiakkaankatu 3\, 00930 Helsinki\n⏰ Sunday | 19:00–23:00\n🎟️ Free entry \n🎸 Music Jams Helsinki night in Bar Idän Tähti – Sunday the stage opens for musicians\, singers and music lovers. Free entry\, live music. \nWhat to expect:\n🎤 Open stage for singers and musicians \n🍹 Drinks available at the bar \n🎸Instruments: Basic backline available; you’re welcome to bring your own instrument. \nThe house band usually plays hippie/psychedelic rock with funky vibes\, but musicians of all styles are welcome. Bring an instrument\, sing\, or simply enjoy the music. \n\n#OpenMicFinland #Helsinki #MusicJam #jamit \n\nℹ️ Open Mic Finland is an independent info hub — we simply gather and share details so everyone can discover inspiring stages across Finland. \n➡ Follow updates: Open Mic Finland Facebook
URL:https://www.openmicfinland.fi/event/music-jams-helsinki-helsinki-2-2/2026-04-26/
LOCATION:Bar Itän Tähti\, Lyypekinkuja 9\, Helsinki\, 00930\, Finland
CATEGORIES:Music Jams
END:VEVENT
BEGIN:VEVENT
DTSTART;TZID=Europe/Helsinki:20260426T210000
DTEND;TZID=Europe/Helsinki:20260426T235900
DTSTAMP:20260426T015246
CREATED:20251009T193138Z
LAST-MODIFIED:20251123T134508Z
UID:10002871-1777237200-1777247940@www.openmicfinland.fi
SUMMARY:Cheri Sunday Jam @ Lahti
DESCRIPTION:📅 When: Every Sunday at 21:00 (+ special events)\n📍 Where: Pub Cheri\, Aleksanterinkatu 25\, Lahti\n🎸 Format: Weekly jam session – open for all musicians and singers\n🎶 Stage vibe: Telaxed groove\, and spontaneous music moments\n🆓 Entry: Free entry\n\nJoin the laid-back Sunday jams at Pub Cheri — step on stage with the jam band or simply enjoy the performances and atmosphere.\nA cozy evening for music lovers\, open to both regulars and newcomers. You might even find yourself on stage before the night is over! \n#openmicfinland #Lahti #musicjams  #jamit #PubCheri #livemusic \nℹ️ \nFollow Open Mic Finland to explore more open mics\, jams\, and creative stages across Finland. \n➡ Follow updates: Open Mic Finland Facebook \n 
URL:https://www.openmicfinland.fi/event/cheri-sunday-jam-lahti/2026-04-26/
LOCATION:Pub Cheri\, Aleksanterinkatu 25\, Lahti\, 15140\, Finland
CATEGORIES:Music Jams
END:VEVENT
END:VCALENDAR