BEGIN:VCALENDAR
VERSION:2.0
PRODID:-//OpenmicFinland.fi - ECPv6.15.20//NONSGML v1.0//EN
CALSCALE:GREGORIAN
METHOD:PUBLISH
X-ORIGINAL-URL:https://www.openmicfinland.fi
X-WR-CALDESC:Events for OpenmicFinland.fi
REFRESH-INTERVAL;VALUE=DURATION:PT1H
X-Robots-Tag:noindex
X-PUBLISHED-TTL:PT1H
BEGIN:VTIMEZONE
TZID:Europe/Helsinki
BEGIN:DAYLIGHT
TZOFFSETFROM:+0200
TZOFFSETTO:+0300
TZNAME:EEST
DTSTART:20250330T010000
END:DAYLIGHT
BEGIN:STANDARD
TZOFFSETFROM:+0300
TZOFFSETTO:+0200
TZNAME:EET
DTSTART:20251026T010000
END:STANDARD
BEGIN:DAYLIGHT
TZOFFSETFROM:+0200
TZOFFSETTO:+0300
TZNAME:EEST
DTSTART:20260329T010000
END:DAYLIGHT
BEGIN:STANDARD
TZOFFSETFROM:+0300
TZOFFSETTO:+0200
TZNAME:EET
DTSTART:20261025T010000
END:STANDARD
BEGIN:DAYLIGHT
TZOFFSETFROM:+0200
TZOFFSETTO:+0300
TZNAME:EEST
DTSTART:20270328T010000
END:DAYLIGHT
BEGIN:STANDARD
TZOFFSETFROM:+0300
TZOFFSETTO:+0200
TZNAME:EET
DTSTART:20271031T010000
END:STANDARD
END:VTIMEZONE
BEGIN:VEVENT
DTSTART;TZID=Europe/Helsinki:20260129T173000
DTEND;TZID=Europe/Helsinki:20260129T190000
DTSTAMP:20260420T032640
CREATED:20251119T223419Z
LAST-MODIFIED:20260128T221941Z
UID:10003711-1769707800-1769713200@www.openmicfinland.fi
SUMMARY:Omppu Open Mic Runostage @ Espoo
DESCRIPTION:📍 Where: Ison Omenan kirjasto\, Suomenlahdentie 1\, Espoo \n🕒 When: Selected Thursdays\, 17:30–19:00 (check dates in the calendar) \n💸 Cost: Free entry \nBeloved poetry open mic at Iso Omena Library’s Stage.\nJoin an inviting space where you can share poems\, short stories\, or spoken-word pieces — prepared or improvised.\nWarm-up acts sometimes set the mood\, and a friendly host guides the evening. \n\n📖 Bring your own texts or enjoy listening from the audience\n✨ Supportive\, creative atmosphere\n\nStep up to the mic or simply enjoy a cosy evening of words at the library. \nℹ️ Open Mic Finland is an independent information hub and does not organise this event. \n➡ Follow updates: Open Mic Finland Facebook \n#openmicfinland #Espoo #poetry #spokenword
URL:https://www.openmicfinland.fi/event/omppu-open-mic-runostage-espoo-2/2026-01-29/
LOCATION:Iso Omena Kirjasto\, Suomenlahden tie 1\, Espoo
CATEGORIES:Spoken Word
END:VEVENT
END:VCALENDAR