BEGIN:VCALENDAR
VERSION:2.0
PRODID:-//OpenmicFinland.fi - ECPv6.15.20//NONSGML v1.0//EN
CALSCALE:GREGORIAN
METHOD:PUBLISH
X-WR-CALNAME:OpenmicFinland.fi
X-ORIGINAL-URL:https://www.openmicfinland.fi
X-WR-CALDESC:Events for OpenmicFinland.fi
REFRESH-INTERVAL;VALUE=DURATION:PT1H
X-Robots-Tag:noindex
X-PUBLISHED-TTL:PT1H
BEGIN:VTIMEZONE
TZID:Europe/Helsinki
BEGIN:DAYLIGHT
TZOFFSETFROM:+0200
TZOFFSETTO:+0300
TZNAME:EEST
DTSTART:20250330T010000
END:DAYLIGHT
BEGIN:STANDARD
TZOFFSETFROM:+0300
TZOFFSETTO:+0200
TZNAME:EET
DTSTART:20251026T010000
END:STANDARD
BEGIN:DAYLIGHT
TZOFFSETFROM:+0200
TZOFFSETTO:+0300
TZNAME:EEST
DTSTART:20260329T010000
END:DAYLIGHT
BEGIN:STANDARD
TZOFFSETFROM:+0300
TZOFFSETTO:+0200
TZNAME:EET
DTSTART:20261025T010000
END:STANDARD
BEGIN:DAYLIGHT
TZOFFSETFROM:+0200
TZOFFSETTO:+0300
TZNAME:EEST
DTSTART:20270328T010000
END:DAYLIGHT
BEGIN:STANDARD
TZOFFSETFROM:+0300
TZOFFSETTO:+0200
TZNAME:EET
DTSTART:20271031T010000
END:STANDARD
END:VTIMEZONE
BEGIN:VEVENT
DTSTART;TZID=Europe/Helsinki:20260210T180000
DTEND;TZID=Europe/Helsinki:20260210T200000
DTSTAMP:20260420T014724
CREATED:20250921T123211Z
LAST-MODIFIED:20260209T212604Z
UID:10002419-1770746400-1770753600@www.openmicfinland.fi
SUMMARY:Viitapiiri Open Mic @ Tampere
DESCRIPTION:Viitapiiri Open Mic @ Tampere\n\n📅 Date: 10.02| 10.03|14.04|2026\n🕕 Time: 18:00–20:00\n📍 Where: Onda – Music & Arts Café\, Aleksanterinkatu 22\, 33100 Tampere\n💸 Cost: Free entry\n\nKirjoittajayhdistys Viitapiiri ry hosts autumn 2025 open-mic poetry nights together with Onda Music & Arts Café. Each evening has its own theme\, explored through warm-up prompts and short writing tasks. The stage is open – everyone is welcome to read or perform their own texts. \n📝 https://www.facebook.com/share/17bwYCVN4d/ \n  \n\n☕ The café is open during the event\n♿ Note: The venue is not fully accessible (restroom in the basement via stairs)\n\nCome share your words or just enjoy an inspiring evening at Onda! \n#OpenMicFinland #Tampere #OndaOpenMic #Poetry #SpokenWord \nℹ️ Open Mic Finland is an independent info hub and does not organise this event. \n➡ Follow updates: Open Mic Finland Facebook
URL:https://www.openmicfinland.fi/event/onda-open-mic-tampere/2026-02-10/
LOCATION:Onda Music & Arts Café\, Aleksanterinkatu 22\, Tampere\, 33100\, Finland
CATEGORIES:Spoken Word
END:VEVENT
BEGIN:VEVENT
DTSTART;TZID=Europe/Helsinki:20260210T190000
DTEND;TZID=Europe/Helsinki:20260210T220000
DTSTAMP:20260420T014724
CREATED:20260209T211553Z
LAST-MODIFIED:20260209T211630Z
UID:10004002-1770750000-1770760800@www.openmicfinland.fi
SUMMARY:Korjaamo Poetry Slam @ Helsinki
DESCRIPTION:📍 Kulttuuritehdas Korjaamo\, Töölönkatu 51\, 00250 Helsinki\, Finland\n🗓 10.02|10.03|14.04| 19.05.2026\n⏰ 7:00 PM – 10:00 PM\n🎤 Poetry slam / spoken word\n🎶 Style: Poetry slam\n💶 Admission: Not specified \nWhat to expect\nPoet Harri Hertell\, in collaboration with Kulttuuritehdas Korjaamo\, invites you to Finland’s only regular poetry slam club.\nThe evening follows international poetry slam rules\, where performers compete with original spoken word pieces.\nFor the first time in Finland\, the winner of the competition will receive a cash prize\, determined by voluntary audience donations.\nBoth performers and audience members are welcome to participate in the evening. \nhttps://facebook.com/events/s/korjaamo-poetry-slam-102/4301086496815695/
URL:https://www.openmicfinland.fi/event/korjaamo-poetry-slam/2026-02-10/
LOCATION:Kulttuuritehdas Korjaamo\, Töölönkatu 51\, Helsinki\, 00250
CATEGORIES:Spoken Word
END:VEVENT
BEGIN:VEVENT
DTSTART;TZID=Europe/Helsinki:20260226T173000
DTEND;TZID=Europe/Helsinki:20260226T190000
DTSTAMP:20260420T014724
CREATED:20251119T223419Z
LAST-MODIFIED:20260128T221941Z
UID:10003712-1772127000-1772132400@www.openmicfinland.fi
SUMMARY:Omppu Open Mic Runostage @ Espoo
DESCRIPTION:📍 Where: Ison Omenan kirjasto\, Suomenlahdentie 1\, Espoo \n🕒 When: Selected Thursdays\, 17:30–19:00 (check dates in the calendar) \n💸 Cost: Free entry \nBeloved poetry open mic at Iso Omena Library’s Stage.\nJoin an inviting space where you can share poems\, short stories\, or spoken-word pieces — prepared or improvised.\nWarm-up acts sometimes set the mood\, and a friendly host guides the evening. \n\n📖 Bring your own texts or enjoy listening from the audience\n✨ Supportive\, creative atmosphere\n\nStep up to the mic or simply enjoy a cosy evening of words at the library. \nℹ️ Open Mic Finland is an independent information hub and does not organise this event. \n➡ Follow updates: Open Mic Finland Facebook \n#openmicfinland #Espoo #poetry #spokenword
URL:https://www.openmicfinland.fi/event/omppu-open-mic-runostage-espoo-2/2026-02-26/
LOCATION:Iso Omena Kirjasto\, Suomenlahden tie 1\, Espoo
CATEGORIES:Spoken Word
END:VEVENT
END:VCALENDAR