BEGIN:VCALENDAR
VERSION:2.0
PRODID:-//OpenmicFinland.fi - ECPv6.15.20//NONSGML v1.0//EN
CALSCALE:GREGORIAN
METHOD:PUBLISH
X-ORIGINAL-URL:https://www.openmicfinland.fi
X-WR-CALDESC:Events for OpenmicFinland.fi
REFRESH-INTERVAL;VALUE=DURATION:PT1H
X-Robots-Tag:noindex
X-PUBLISHED-TTL:PT1H
BEGIN:VTIMEZONE
TZID:Europe/Helsinki
BEGIN:DAYLIGHT
TZOFFSETFROM:+0200
TZOFFSETTO:+0300
TZNAME:EEST
DTSTART:20240331T010000
END:DAYLIGHT
BEGIN:STANDARD
TZOFFSETFROM:+0300
TZOFFSETTO:+0200
TZNAME:EET
DTSTART:20241027T010000
END:STANDARD
BEGIN:DAYLIGHT
TZOFFSETFROM:+0200
TZOFFSETTO:+0300
TZNAME:EEST
DTSTART:20250330T010000
END:DAYLIGHT
BEGIN:STANDARD
TZOFFSETFROM:+0300
TZOFFSETTO:+0200
TZNAME:EET
DTSTART:20251026T010000
END:STANDARD
BEGIN:DAYLIGHT
TZOFFSETFROM:+0200
TZOFFSETTO:+0300
TZNAME:EEST
DTSTART:20260329T010000
END:DAYLIGHT
BEGIN:STANDARD
TZOFFSETFROM:+0300
TZOFFSETTO:+0200
TZNAME:EET
DTSTART:20261025T010000
END:STANDARD
END:VTIMEZONE
BEGIN:VEVENT
DTSTART;TZID=Europe/Helsinki:20251010T140000
DTEND;TZID=Europe/Helsinki:20251010T170000
DTSTAMP:20260420T095542
CREATED:20250921T124400Z
LAST-MODIFIED:20250929T143153Z
UID:10002416-1760104800-1760115600@www.openmicfinland.fi
SUMMARY:Tiina Maria Sasso & Open Mic @ Vantaa
DESCRIPTION:Tiina Maria Sasso & Open Mic @ Vantaa\n\n📅 Date: Friday\, 10 October 2025\n🕑 Time: 14:00\n📍 Where: Kaupunkikulttuurikeskus Mosaiikki\, Vantaankoskentie 69\, 01700 Vantaa\n💸 Cost: Free entry\n\nOn Finnish Literature Day (10 October)\, author Tiina Maria Sasso visits Mosaiikki at 14:00. She will read excerpts from her third book Da capo and talk about her creative work. \n📚 An exhibition of Sasso’s paper collages will also be on display in the Mosaiikki gallery from 1–14 October. \n🎤 After the reading\, an open mic invites everyone to share their own poems or texts — a warm\, supportive space for voices of all kinds. \n\n☕ Coffee will be served to participants\n🌟 Admission is free and everyone is welcome\n\n#OpenMicFinland #Vantaa #Literature #Poetry #OpenMic \nℹ️ Open Mic Finland is an independent information hub and does not organise this event. \n➡ Follow updates: Open Mic Finland Facebook \n 
URL:https://www.openmicfinland.fi/event/tiina-maria-sasso-open-mic-vantaa/
LOCATION:Kaupunkikulttuurikeskus Mosaikki\, Vantaankoskentie 69\, Vantaa\, 01700\, Finland
CATEGORIES:Spoken Word
END:VEVENT
END:VCALENDAR