BEGIN:VCALENDAR
VERSION:2.0
PRODID:-//OpenmicFinland.fi - ECPv6.15.20//NONSGML v1.0//EN
CALSCALE:GREGORIAN
METHOD:PUBLISH
X-WR-CALNAME:OpenmicFinland.fi
X-ORIGINAL-URL:https://www.openmicfinland.fi
X-WR-CALDESC:Events for OpenmicFinland.fi
REFRESH-INTERVAL;VALUE=DURATION:PT1H
X-Robots-Tag:noindex
X-PUBLISHED-TTL:PT1H
BEGIN:VTIMEZONE
TZID:Europe/Helsinki
BEGIN:DAYLIGHT
TZOFFSETFROM:+0200
TZOFFSETTO:+0300
TZNAME:EEST
DTSTART:20240331T010000
END:DAYLIGHT
BEGIN:STANDARD
TZOFFSETFROM:+0300
TZOFFSETTO:+0200
TZNAME:EET
DTSTART:20241027T010000
END:STANDARD
BEGIN:DAYLIGHT
TZOFFSETFROM:+0200
TZOFFSETTO:+0300
TZNAME:EEST
DTSTART:20250330T010000
END:DAYLIGHT
BEGIN:STANDARD
TZOFFSETFROM:+0300
TZOFFSETTO:+0200
TZNAME:EET
DTSTART:20251026T010000
END:STANDARD
BEGIN:DAYLIGHT
TZOFFSETFROM:+0200
TZOFFSETTO:+0300
TZNAME:EEST
DTSTART:20260329T010000
END:DAYLIGHT
BEGIN:STANDARD
TZOFFSETFROM:+0300
TZOFFSETTO:+0200
TZNAME:EET
DTSTART:20261025T010000
END:STANDARD
END:VTIMEZONE
BEGIN:VEVENT
DTSTART;TZID=Europe/Helsinki:20251011T160000
DTEND;TZID=Europe/Helsinki:20251011T180000
DTSTAMP:20260420T095340
CREATED:20250920T153055Z
LAST-MODIFIED:20250929T142244Z
UID:10002325-1760198400-1760205600@www.openmicfinland.fi
SUMMARY:Espoo Theatre Open Mic @ Espoo
DESCRIPTION:📍 Where: Bar Juoru \, Espoo Theatre\, Revontulentie 8\, Tapiola\, Espoo \n📅 When: Saturday\, October 11\, 2025 · 16:00 (ending time unknown) \n🎟️ Cost: Free entry \nEspoo Writers’ Association and the Espoo City Theatre Support Society invite you to an inspiring afternoon open mic at Bar Juro\, inside Espoo Theatre.\nThe poetry session follows the performance Arakhne — an energetic mix of weaving\, spider mythology and wrestling archetypes. \nWhat to expect: \n\n🎤 Hosted by Kasper Salonen\n📖 Opening act: performance poet Nihkee\n✨ Theme of the evening: Change\n📝 Everyone is welcome to share their own texts on the theme — sign up on site before the mic starts\n\nBring your words\, listen\, and enjoy a vibrant afternoon of stage poetry at Espoo Theatre. \n#OpenMicFinland #Espoo #Poetry #Runous \nℹ️ Open Mic Finland is an independent information hub and does not organise this event. \n➡ Follow updates: Open Mic Finland Facebook
URL:https://www.openmicfinland.fi/event/espoo-theatre-open-mic-espoo/
LOCATION:Bar Juoru\, Revontulentie 8\, Espoo\, Finland
CATEGORIES:Spoken Word
END:VEVENT
END:VCALENDAR