BEGIN:VCALENDAR
VERSION:2.0
PRODID:-//OpenmicFinland.fi - ECPv6.15.20//NONSGML v1.0//EN
CALSCALE:GREGORIAN
METHOD:PUBLISH
X-WR-CALNAME:OpenmicFinland.fi
X-ORIGINAL-URL:https://www.openmicfinland.fi
X-WR-CALDESC:Events for OpenmicFinland.fi
REFRESH-INTERVAL;VALUE=DURATION:PT1H
X-Robots-Tag:noindex
X-PUBLISHED-TTL:PT1H
BEGIN:VTIMEZONE
TZID:Europe/Helsinki
BEGIN:DAYLIGHT
TZOFFSETFROM:+0200
TZOFFSETTO:+0300
TZNAME:EEST
DTSTART:20240331T010000
END:DAYLIGHT
BEGIN:STANDARD
TZOFFSETFROM:+0300
TZOFFSETTO:+0200
TZNAME:EET
DTSTART:20241027T010000
END:STANDARD
BEGIN:DAYLIGHT
TZOFFSETFROM:+0200
TZOFFSETTO:+0300
TZNAME:EEST
DTSTART:20250330T010000
END:DAYLIGHT
BEGIN:STANDARD
TZOFFSETFROM:+0300
TZOFFSETTO:+0200
TZNAME:EET
DTSTART:20251026T010000
END:STANDARD
BEGIN:DAYLIGHT
TZOFFSETFROM:+0200
TZOFFSETTO:+0300
TZNAME:EEST
DTSTART:20260329T010000
END:DAYLIGHT
BEGIN:STANDARD
TZOFFSETFROM:+0300
TZOFFSETTO:+0200
TZNAME:EET
DTSTART:20261025T010000
END:STANDARD
END:VTIMEZONE
BEGIN:VEVENT
DTSTART;TZID=Europe/Helsinki:20251129T140000
DTEND;TZID=Europe/Helsinki:20251129T160000
DTSTAMP:20260420T081515
CREATED:20251028T143932Z
LAST-MODIFIED:20251028T202009Z
UID:10003029-1764424800-1764432000@www.openmicfinland.fi
SUMMARY:Satumainen Open Mic @ Heinävesi
DESCRIPTION:📍 Where: Satumainen kyläpuoti\, Kermanrannantie 5\, Heinävesi\n🗓️ When: Wed\, Oct 29\, 2025 | 6 PM–8 PM\n🗓️ Next date: Sat\, Nov 29\, 2025 | 2 PM–4 PM\n🎟️ Entry: Free\n🎶 Style: Open Mic – poetry\, spoken word\, stories\, or songs \nMicrophone and speaker are ready — only you and your words are missing!\nCome share your voice\, your poem\, or your song in a warm and welcoming atmosphere by the lakeside village shop.\nListeners are just as welcome as performers. \n#openmicfinland #heinavesi #openmic #spokenword \nℹ️ Open Mic Finland is an independent information hub and does not organise this event.Follow Open Mic Finland to explore more open mics\, jams\, and creative stages across Finland. \n➡ Follow updates: Open Mic Finland Facebook
URL:https://www.openmicfinland.fi/event/satumainen-open-mic-heinavesi/2025-11-29/
LOCATION:Satumainen kyläpuoti\, Kermanrannantie 5\, Heinävesi\, 79700\, Finland
CATEGORIES:Open Mic (General),Spoken Word
END:VEVENT
END:VCALENDAR