BEGIN:VCALENDAR
VERSION:2.0
PRODID:-//OpenmicFinland.fi - ECPv6.15.20//NONSGML v1.0//EN
CALSCALE:GREGORIAN
METHOD:PUBLISH
X-ORIGINAL-URL:https://www.openmicfinland.fi
X-WR-CALDESC:Events for OpenmicFinland.fi
REFRESH-INTERVAL;VALUE=DURATION:PT1H
X-Robots-Tag:noindex
X-PUBLISHED-TTL:PT1H
BEGIN:VTIMEZONE
TZID:Europe/Helsinki
BEGIN:DAYLIGHT
TZOFFSETFROM:+0200
TZOFFSETTO:+0300
TZNAME:EEST
DTSTART:20250330T010000
END:DAYLIGHT
BEGIN:STANDARD
TZOFFSETFROM:+0300
TZOFFSETTO:+0200
TZNAME:EET
DTSTART:20251026T010000
END:STANDARD
BEGIN:DAYLIGHT
TZOFFSETFROM:+0200
TZOFFSETTO:+0300
TZNAME:EEST
DTSTART:20260329T010000
END:DAYLIGHT
BEGIN:STANDARD
TZOFFSETFROM:+0300
TZOFFSETTO:+0200
TZNAME:EET
DTSTART:20261025T010000
END:STANDARD
BEGIN:DAYLIGHT
TZOFFSETFROM:+0200
TZOFFSETTO:+0300
TZNAME:EEST
DTSTART:20270328T010000
END:DAYLIGHT
BEGIN:STANDARD
TZOFFSETFROM:+0300
TZOFFSETTO:+0200
TZNAME:EET
DTSTART:20271031T010000
END:STANDARD
END:VTIMEZONE
BEGIN:VEVENT
DTSTART;TZID=Europe/Helsinki:20260418T180000
DTEND;TZID=Europe/Helsinki:20260418T210000
DTSTAMP:20260419T205131
CREATED:20251028T150547Z
LAST-MODIFIED:20260417T211105Z
UID:10003031-1776535200-1776546000@www.openmicfinland.fi
SUMMARY:Rouhee Open Mic @ Lahti
DESCRIPTION:📍 Where: Opiston Kellari\, Harjukatu 46\, 15110 Lahti\n🗓️ When: Saturday\, April 18\, 2026 | 6:00 PM–9:00 PM\n🎤 Host: Milla Koivu / ROUHEE Open Mic\n🎟️ Entry: Free\n🎶 Style: Poetry & Spoken Word \nStep into a warm evening of words and rhythm at ROUHEE Open Mic in Lahti!\nThis cozy stage welcomes everyone — from first-time readers to seasoned poets and listeners who simply love language.\nBring your own poem or just come to soak in the atmosphere. \n🪶 Sign-ups start at 6:00 PM on-site.\nThe evening is hosted by poet Milla Koivu\, who also performs as part of the opening act. \n#openmicfinland #lahti #spokenword #poetry #community \nℹ️ Open Mic Finland is an independent information hub and does not organise this event.Follow Open Mic Finland to explore more open mics\, jams\, and creative stages across Finland. \n➡ Follow updates: Open Mic Finland Facebook
URL:https://www.openmicfinland.fi/event/rouhee-open-mic-lahti/
LOCATION:Opiston Kellari\, Harjukatu 46\, Lahti\, 15110\, Finland
CATEGORIES:Spoken Word
END:VEVENT
END:VCALENDAR