BEGIN:VCALENDAR
VERSION:2.0
PRODID:-//OpenmicFinland.fi - ECPv6.15.20//NONSGML v1.0//EN
CALSCALE:GREGORIAN
METHOD:PUBLISH
X-WR-CALNAME:OpenmicFinland.fi
X-ORIGINAL-URL:https://www.openmicfinland.fi
X-WR-CALDESC:Events for OpenmicFinland.fi
REFRESH-INTERVAL;VALUE=DURATION:PT1H
X-Robots-Tag:noindex
X-PUBLISHED-TTL:PT1H
BEGIN:VTIMEZONE
TZID:Europe/Helsinki
BEGIN:DAYLIGHT
TZOFFSETFROM:+0200
TZOFFSETTO:+0300
TZNAME:EEST
DTSTART:20250330T010000
END:DAYLIGHT
BEGIN:STANDARD
TZOFFSETFROM:+0300
TZOFFSETTO:+0200
TZNAME:EET
DTSTART:20251026T010000
END:STANDARD
BEGIN:DAYLIGHT
TZOFFSETFROM:+0200
TZOFFSETTO:+0300
TZNAME:EEST
DTSTART:20260329T010000
END:DAYLIGHT
BEGIN:STANDARD
TZOFFSETFROM:+0300
TZOFFSETTO:+0200
TZNAME:EET
DTSTART:20261025T010000
END:STANDARD
BEGIN:DAYLIGHT
TZOFFSETFROM:+0200
TZOFFSETTO:+0300
TZNAME:EEST
DTSTART:20270328T010000
END:DAYLIGHT
BEGIN:STANDARD
TZOFFSETFROM:+0300
TZOFFSETTO:+0200
TZNAME:EET
DTSTART:20271031T010000
END:STANDARD
BEGIN:DAYLIGHT
TZOFFSETFROM:+0200
TZOFFSETTO:+0300
TZNAME:EEST
DTSTART:20280326T010000
END:DAYLIGHT
BEGIN:STANDARD
TZOFFSETFROM:+0300
TZOFFSETTO:+0200
TZNAME:EET
DTSTART:20281029T010000
END:STANDARD
END:VTIMEZONE
BEGIN:VEVENT
DTSTART;TZID=Europe/Helsinki:20260423T180000
DTEND;TZID=Europe/Helsinki:20260423T210000
DTSTAMP:20260419T174156
CREATED:20250910T110254Z
LAST-MODIFIED:20260210T193847Z
UID:10004016-1776967200-1776978000@www.openmicfinland.fi
SUMMARY:Storytelling Open Mic @ Vantaa
DESCRIPTION:**Storytelling Open Mic @ Vantaa** \n📍 Kaupunkikulttuurikeskus Mosaikki\, Kivistö\, Vantaa\n📅 Selected Thursdays:| 18:00–21:00\n🎟️ Free entry \nStorytelling Open Mic in Vantaa invites everyone to share — tell a story from your culture\, your life\, or even something imagined. Funny or sad\, true or made-up — the stage is open for voices of every kind. \n✨ What to expect:\n🎤 10-minute slots for storytellers (sign up in advance via mosaikki@vantaa.fi)\n📖 Stories can be improvised or prepared\, in English or Finnish\n🌍 Inclusive and supportive community\n🎶 Hosted by musician & artist **Annie Trippah** \nBring your friends\, listen\, share\, and enjoy an evening of stories at Mosaikki. \n#OpenMicFinland #Vantaa #Storytelling \n➡ Follow updates: Open Mic Finland Facebook
URL:https://www.openmicfinland.fi/event/storytelling-open-mic-vantaa/2026-04-23/
LOCATION:Kaupunkikulttuurikeskus Mosaikki\, Vantaankoskentie 69\, Vantaa\, 01700\, Finland
CATEGORIES:Open Mic (General)
END:VEVENT
BEGIN:VEVENT
DTSTART;TZID=Europe/Helsinki:20260507T180000
DTEND;TZID=Europe/Helsinki:20260507T210000
DTSTAMP:20260419T174156
CREATED:20250910T110254Z
LAST-MODIFIED:20260210T193847Z
UID:10004017-1778176800-1778187600@www.openmicfinland.fi
SUMMARY:Storytelling Open Mic @ Vantaa
DESCRIPTION:**Storytelling Open Mic @ Vantaa** \n📍 Kaupunkikulttuurikeskus Mosaikki\, Kivistö\, Vantaa\n📅 Selected Thursdays:| 18:00–21:00\n🎟️ Free entry \nStorytelling Open Mic in Vantaa invites everyone to share — tell a story from your culture\, your life\, or even something imagined. Funny or sad\, true or made-up — the stage is open for voices of every kind. \n✨ What to expect:\n🎤 10-minute slots for storytellers (sign up in advance via mosaikki@vantaa.fi)\n📖 Stories can be improvised or prepared\, in English or Finnish\n🌍 Inclusive and supportive community\n🎶 Hosted by musician & artist **Annie Trippah** \nBring your friends\, listen\, share\, and enjoy an evening of stories at Mosaikki. \n#OpenMicFinland #Vantaa #Storytelling \n➡ Follow updates: Open Mic Finland Facebook
URL:https://www.openmicfinland.fi/event/storytelling-open-mic-vantaa/2026-05-07/
LOCATION:Kaupunkikulttuurikeskus Mosaikki\, Vantaankoskentie 69\, Vantaa\, 01700\, Finland
CATEGORIES:Open Mic (General)
END:VEVENT
BEGIN:VEVENT
DTSTART;TZID=Europe/Helsinki:20260521T180000
DTEND;TZID=Europe/Helsinki:20260521T210000
DTSTAMP:20260419T174156
CREATED:20250910T110254Z
LAST-MODIFIED:20260210T193847Z
UID:10004018-1779386400-1779397200@www.openmicfinland.fi
SUMMARY:Storytelling Open Mic @ Vantaa
DESCRIPTION:**Storytelling Open Mic @ Vantaa** \n📍 Kaupunkikulttuurikeskus Mosaikki\, Kivistö\, Vantaa\n📅 Selected Thursdays:| 18:00–21:00\n🎟️ Free entry \nStorytelling Open Mic in Vantaa invites everyone to share — tell a story from your culture\, your life\, or even something imagined. Funny or sad\, true or made-up — the stage is open for voices of every kind. \n✨ What to expect:\n🎤 10-minute slots for storytellers (sign up in advance via mosaikki@vantaa.fi)\n📖 Stories can be improvised or prepared\, in English or Finnish\n🌍 Inclusive and supportive community\n🎶 Hosted by musician & artist **Annie Trippah** \nBring your friends\, listen\, share\, and enjoy an evening of stories at Mosaikki. \n#OpenMicFinland #Vantaa #Storytelling \n➡ Follow updates: Open Mic Finland Facebook
URL:https://www.openmicfinland.fi/event/storytelling-open-mic-vantaa/2026-05-21/
LOCATION:Kaupunkikulttuurikeskus Mosaikki\, Vantaankoskentie 69\, Vantaa\, 01700\, Finland
CATEGORIES:Open Mic (General)
END:VEVENT
BEGIN:VEVENT
DTSTART;TZID=Europe/Helsinki:20260604T180000
DTEND;TZID=Europe/Helsinki:20260604T210000
DTSTAMP:20260419T174156
CREATED:20250910T110254Z
LAST-MODIFIED:20260210T193847Z
UID:10004019-1780596000-1780606800@www.openmicfinland.fi
SUMMARY:Storytelling Open Mic @ Vantaa
DESCRIPTION:**Storytelling Open Mic @ Vantaa** \n📍 Kaupunkikulttuurikeskus Mosaikki\, Kivistö\, Vantaa\n📅 Selected Thursdays:| 18:00–21:00\n🎟️ Free entry \nStorytelling Open Mic in Vantaa invites everyone to share — tell a story from your culture\, your life\, or even something imagined. Funny or sad\, true or made-up — the stage is open for voices of every kind. \n✨ What to expect:\n🎤 10-minute slots for storytellers (sign up in advance via mosaikki@vantaa.fi)\n📖 Stories can be improvised or prepared\, in English or Finnish\n🌍 Inclusive and supportive community\n🎶 Hosted by musician & artist **Annie Trippah** \nBring your friends\, listen\, share\, and enjoy an evening of stories at Mosaikki. \n#OpenMicFinland #Vantaa #Storytelling \n➡ Follow updates: Open Mic Finland Facebook
URL:https://www.openmicfinland.fi/event/storytelling-open-mic-vantaa/2026-06-04/
LOCATION:Kaupunkikulttuurikeskus Mosaikki\, Vantaankoskentie 69\, Vantaa\, 01700\, Finland
CATEGORIES:Open Mic (General)
END:VEVENT
BEGIN:VEVENT
DTSTART;TZID=Europe/Helsinki:20260618T180000
DTEND;TZID=Europe/Helsinki:20260618T210000
DTSTAMP:20260419T174156
CREATED:20250910T110254Z
LAST-MODIFIED:20260210T193847Z
UID:10004020-1781805600-1781816400@www.openmicfinland.fi
SUMMARY:Storytelling Open Mic @ Vantaa
DESCRIPTION:**Storytelling Open Mic @ Vantaa** \n📍 Kaupunkikulttuurikeskus Mosaikki\, Kivistö\, Vantaa\n📅 Selected Thursdays:| 18:00–21:00\n🎟️ Free entry \nStorytelling Open Mic in Vantaa invites everyone to share — tell a story from your culture\, your life\, or even something imagined. Funny or sad\, true or made-up — the stage is open for voices of every kind. \n✨ What to expect:\n🎤 10-minute slots for storytellers (sign up in advance via mosaikki@vantaa.fi)\n📖 Stories can be improvised or prepared\, in English or Finnish\n🌍 Inclusive and supportive community\n🎶 Hosted by musician & artist **Annie Trippah** \nBring your friends\, listen\, share\, and enjoy an evening of stories at Mosaikki. \n#OpenMicFinland #Vantaa #Storytelling \n➡ Follow updates: Open Mic Finland Facebook
URL:https://www.openmicfinland.fi/event/storytelling-open-mic-vantaa/2026-06-18/
LOCATION:Kaupunkikulttuurikeskus Mosaikki\, Vantaankoskentie 69\, Vantaa\, 01700\, Finland
CATEGORIES:Open Mic (General)
END:VEVENT
BEGIN:VEVENT
DTSTART;TZID=Europe/Helsinki:20260702T180000
DTEND;TZID=Europe/Helsinki:20260702T210000
DTSTAMP:20260419T174156
CREATED:20250910T110254Z
LAST-MODIFIED:20260210T193847Z
UID:10004021-1783015200-1783026000@www.openmicfinland.fi
SUMMARY:Storytelling Open Mic @ Vantaa
DESCRIPTION:**Storytelling Open Mic @ Vantaa** \n📍 Kaupunkikulttuurikeskus Mosaikki\, Kivistö\, Vantaa\n📅 Selected Thursdays:| 18:00–21:00\n🎟️ Free entry \nStorytelling Open Mic in Vantaa invites everyone to share — tell a story from your culture\, your life\, or even something imagined. Funny or sad\, true or made-up — the stage is open for voices of every kind. \n✨ What to expect:\n🎤 10-minute slots for storytellers (sign up in advance via mosaikki@vantaa.fi)\n📖 Stories can be improvised or prepared\, in English or Finnish\n🌍 Inclusive and supportive community\n🎶 Hosted by musician & artist **Annie Trippah** \nBring your friends\, listen\, share\, and enjoy an evening of stories at Mosaikki. \n#OpenMicFinland #Vantaa #Storytelling \n➡ Follow updates: Open Mic Finland Facebook
URL:https://www.openmicfinland.fi/event/storytelling-open-mic-vantaa/2026-07-02/
LOCATION:Kaupunkikulttuurikeskus Mosaikki\, Vantaankoskentie 69\, Vantaa\, 01700\, Finland
CATEGORIES:Open Mic (General)
END:VEVENT
BEGIN:VEVENT
DTSTART;TZID=Europe/Helsinki:20260716T180000
DTEND;TZID=Europe/Helsinki:20260716T210000
DTSTAMP:20260419T174156
CREATED:20250910T110254Z
LAST-MODIFIED:20260210T193847Z
UID:10004022-1784224800-1784235600@www.openmicfinland.fi
SUMMARY:Storytelling Open Mic @ Vantaa
DESCRIPTION:**Storytelling Open Mic @ Vantaa** \n📍 Kaupunkikulttuurikeskus Mosaikki\, Kivistö\, Vantaa\n📅 Selected Thursdays:| 18:00–21:00\n🎟️ Free entry \nStorytelling Open Mic in Vantaa invites everyone to share — tell a story from your culture\, your life\, or even something imagined. Funny or sad\, true or made-up — the stage is open for voices of every kind. \n✨ What to expect:\n🎤 10-minute slots for storytellers (sign up in advance via mosaikki@vantaa.fi)\n📖 Stories can be improvised or prepared\, in English or Finnish\n🌍 Inclusive and supportive community\n🎶 Hosted by musician & artist **Annie Trippah** \nBring your friends\, listen\, share\, and enjoy an evening of stories at Mosaikki. \n#OpenMicFinland #Vantaa #Storytelling \n➡ Follow updates: Open Mic Finland Facebook
URL:https://www.openmicfinland.fi/event/storytelling-open-mic-vantaa/2026-07-16/
LOCATION:Kaupunkikulttuurikeskus Mosaikki\, Vantaankoskentie 69\, Vantaa\, 01700\, Finland
CATEGORIES:Open Mic (General)
END:VEVENT
BEGIN:VEVENT
DTSTART;TZID=Europe/Helsinki:20260730T180000
DTEND;TZID=Europe/Helsinki:20260730T210000
DTSTAMP:20260419T174156
CREATED:20250910T110254Z
LAST-MODIFIED:20260210T193847Z
UID:10004023-1785434400-1785445200@www.openmicfinland.fi
SUMMARY:Storytelling Open Mic @ Vantaa
DESCRIPTION:**Storytelling Open Mic @ Vantaa** \n📍 Kaupunkikulttuurikeskus Mosaikki\, Kivistö\, Vantaa\n📅 Selected Thursdays:| 18:00–21:00\n🎟️ Free entry \nStorytelling Open Mic in Vantaa invites everyone to share — tell a story from your culture\, your life\, or even something imagined. Funny or sad\, true or made-up — the stage is open for voices of every kind. \n✨ What to expect:\n🎤 10-minute slots for storytellers (sign up in advance via mosaikki@vantaa.fi)\n📖 Stories can be improvised or prepared\, in English or Finnish\n🌍 Inclusive and supportive community\n🎶 Hosted by musician & artist **Annie Trippah** \nBring your friends\, listen\, share\, and enjoy an evening of stories at Mosaikki. \n#OpenMicFinland #Vantaa #Storytelling \n➡ Follow updates: Open Mic Finland Facebook
URL:https://www.openmicfinland.fi/event/storytelling-open-mic-vantaa/2026-07-30/
LOCATION:Kaupunkikulttuurikeskus Mosaikki\, Vantaankoskentie 69\, Vantaa\, 01700\, Finland
CATEGORIES:Open Mic (General)
END:VEVENT
BEGIN:VEVENT
DTSTART;TZID=Europe/Helsinki:20260813T180000
DTEND;TZID=Europe/Helsinki:20260813T210000
DTSTAMP:20260419T174156
CREATED:20250910T110254Z
LAST-MODIFIED:20260210T193847Z
UID:10004024-1786644000-1786654800@www.openmicfinland.fi
SUMMARY:Storytelling Open Mic @ Vantaa
DESCRIPTION:**Storytelling Open Mic @ Vantaa** \n📍 Kaupunkikulttuurikeskus Mosaikki\, Kivistö\, Vantaa\n📅 Selected Thursdays:| 18:00–21:00\n🎟️ Free entry \nStorytelling Open Mic in Vantaa invites everyone to share — tell a story from your culture\, your life\, or even something imagined. Funny or sad\, true or made-up — the stage is open for voices of every kind. \n✨ What to expect:\n🎤 10-minute slots for storytellers (sign up in advance via mosaikki@vantaa.fi)\n📖 Stories can be improvised or prepared\, in English or Finnish\n🌍 Inclusive and supportive community\n🎶 Hosted by musician & artist **Annie Trippah** \nBring your friends\, listen\, share\, and enjoy an evening of stories at Mosaikki. \n#OpenMicFinland #Vantaa #Storytelling \n➡ Follow updates: Open Mic Finland Facebook
URL:https://www.openmicfinland.fi/event/storytelling-open-mic-vantaa/2026-08-13/
LOCATION:Kaupunkikulttuurikeskus Mosaikki\, Vantaankoskentie 69\, Vantaa\, 01700\, Finland
CATEGORIES:Open Mic (General)
END:VEVENT
BEGIN:VEVENT
DTSTART;TZID=Europe/Helsinki:20260827T180000
DTEND;TZID=Europe/Helsinki:20260827T210000
DTSTAMP:20260419T174156
CREATED:20250910T110254Z
LAST-MODIFIED:20260210T193847Z
UID:10004025-1787853600-1787864400@www.openmicfinland.fi
SUMMARY:Storytelling Open Mic @ Vantaa
DESCRIPTION:**Storytelling Open Mic @ Vantaa** \n📍 Kaupunkikulttuurikeskus Mosaikki\, Kivistö\, Vantaa\n📅 Selected Thursdays:| 18:00–21:00\n🎟️ Free entry \nStorytelling Open Mic in Vantaa invites everyone to share — tell a story from your culture\, your life\, or even something imagined. Funny or sad\, true or made-up — the stage is open for voices of every kind. \n✨ What to expect:\n🎤 10-minute slots for storytellers (sign up in advance via mosaikki@vantaa.fi)\n📖 Stories can be improvised or prepared\, in English or Finnish\n🌍 Inclusive and supportive community\n🎶 Hosted by musician & artist **Annie Trippah** \nBring your friends\, listen\, share\, and enjoy an evening of stories at Mosaikki. \n#OpenMicFinland #Vantaa #Storytelling \n➡ Follow updates: Open Mic Finland Facebook
URL:https://www.openmicfinland.fi/event/storytelling-open-mic-vantaa/2026-08-27/
LOCATION:Kaupunkikulttuurikeskus Mosaikki\, Vantaankoskentie 69\, Vantaa\, 01700\, Finland
CATEGORIES:Open Mic (General)
END:VEVENT
BEGIN:VEVENT
DTSTART;TZID=Europe/Helsinki:20260910T180000
DTEND;TZID=Europe/Helsinki:20260910T210000
DTSTAMP:20260419T174156
CREATED:20250910T110254Z
LAST-MODIFIED:20260210T193847Z
UID:10004026-1789063200-1789074000@www.openmicfinland.fi
SUMMARY:Storytelling Open Mic @ Vantaa
DESCRIPTION:**Storytelling Open Mic @ Vantaa** \n📍 Kaupunkikulttuurikeskus Mosaikki\, Kivistö\, Vantaa\n📅 Selected Thursdays:| 18:00–21:00\n🎟️ Free entry \nStorytelling Open Mic in Vantaa invites everyone to share — tell a story from your culture\, your life\, or even something imagined. Funny or sad\, true or made-up — the stage is open for voices of every kind. \n✨ What to expect:\n🎤 10-minute slots for storytellers (sign up in advance via mosaikki@vantaa.fi)\n📖 Stories can be improvised or prepared\, in English or Finnish\n🌍 Inclusive and supportive community\n🎶 Hosted by musician & artist **Annie Trippah** \nBring your friends\, listen\, share\, and enjoy an evening of stories at Mosaikki. \n#OpenMicFinland #Vantaa #Storytelling \n➡ Follow updates: Open Mic Finland Facebook
URL:https://www.openmicfinland.fi/event/storytelling-open-mic-vantaa/2026-09-10/
LOCATION:Kaupunkikulttuurikeskus Mosaikki\, Vantaankoskentie 69\, Vantaa\, 01700\, Finland
CATEGORIES:Open Mic (General)
END:VEVENT
BEGIN:VEVENT
DTSTART;TZID=Europe/Helsinki:20260924T180000
DTEND;TZID=Europe/Helsinki:20260924T210000
DTSTAMP:20260419T174156
CREATED:20250910T110254Z
LAST-MODIFIED:20260210T193847Z
UID:10004027-1790272800-1790283600@www.openmicfinland.fi
SUMMARY:Storytelling Open Mic @ Vantaa
DESCRIPTION:**Storytelling Open Mic @ Vantaa** \n📍 Kaupunkikulttuurikeskus Mosaikki\, Kivistö\, Vantaa\n📅 Selected Thursdays:| 18:00–21:00\n🎟️ Free entry \nStorytelling Open Mic in Vantaa invites everyone to share — tell a story from your culture\, your life\, or even something imagined. Funny or sad\, true or made-up — the stage is open for voices of every kind. \n✨ What to expect:\n🎤 10-minute slots for storytellers (sign up in advance via mosaikki@vantaa.fi)\n📖 Stories can be improvised or prepared\, in English or Finnish\n🌍 Inclusive and supportive community\n🎶 Hosted by musician & artist **Annie Trippah** \nBring your friends\, listen\, share\, and enjoy an evening of stories at Mosaikki. \n#OpenMicFinland #Vantaa #Storytelling \n➡ Follow updates: Open Mic Finland Facebook
URL:https://www.openmicfinland.fi/event/storytelling-open-mic-vantaa/2026-09-24/
LOCATION:Kaupunkikulttuurikeskus Mosaikki\, Vantaankoskentie 69\, Vantaa\, 01700\, Finland
CATEGORIES:Open Mic (General)
END:VEVENT
BEGIN:VEVENT
DTSTART;TZID=Europe/Helsinki:20261008T180000
DTEND;TZID=Europe/Helsinki:20261008T210000
DTSTAMP:20260419T174156
CREATED:20250910T110254Z
LAST-MODIFIED:20260210T193847Z
UID:10004028-1791482400-1791493200@www.openmicfinland.fi
SUMMARY:Storytelling Open Mic @ Vantaa
DESCRIPTION:**Storytelling Open Mic @ Vantaa** \n📍 Kaupunkikulttuurikeskus Mosaikki\, Kivistö\, Vantaa\n📅 Selected Thursdays:| 18:00–21:00\n🎟️ Free entry \nStorytelling Open Mic in Vantaa invites everyone to share — tell a story from your culture\, your life\, or even something imagined. Funny or sad\, true or made-up — the stage is open for voices of every kind. \n✨ What to expect:\n🎤 10-minute slots for storytellers (sign up in advance via mosaikki@vantaa.fi)\n📖 Stories can be improvised or prepared\, in English or Finnish\n🌍 Inclusive and supportive community\n🎶 Hosted by musician & artist **Annie Trippah** \nBring your friends\, listen\, share\, and enjoy an evening of stories at Mosaikki. \n#OpenMicFinland #Vantaa #Storytelling \n➡ Follow updates: Open Mic Finland Facebook
URL:https://www.openmicfinland.fi/event/storytelling-open-mic-vantaa/2026-10-08/
LOCATION:Kaupunkikulttuurikeskus Mosaikki\, Vantaankoskentie 69\, Vantaa\, 01700\, Finland
CATEGORIES:Open Mic (General)
END:VEVENT
BEGIN:VEVENT
DTSTART;TZID=Europe/Helsinki:20261022T180000
DTEND;TZID=Europe/Helsinki:20261022T210000
DTSTAMP:20260419T174156
CREATED:20250910T110254Z
LAST-MODIFIED:20260210T193847Z
UID:10004029-1792692000-1792702800@www.openmicfinland.fi
SUMMARY:Storytelling Open Mic @ Vantaa
DESCRIPTION:**Storytelling Open Mic @ Vantaa** \n📍 Kaupunkikulttuurikeskus Mosaikki\, Kivistö\, Vantaa\n📅 Selected Thursdays:| 18:00–21:00\n🎟️ Free entry \nStorytelling Open Mic in Vantaa invites everyone to share — tell a story from your culture\, your life\, or even something imagined. Funny or sad\, true or made-up — the stage is open for voices of every kind. \n✨ What to expect:\n🎤 10-minute slots for storytellers (sign up in advance via mosaikki@vantaa.fi)\n📖 Stories can be improvised or prepared\, in English or Finnish\n🌍 Inclusive and supportive community\n🎶 Hosted by musician & artist **Annie Trippah** \nBring your friends\, listen\, share\, and enjoy an evening of stories at Mosaikki. \n#OpenMicFinland #Vantaa #Storytelling \n➡ Follow updates: Open Mic Finland Facebook
URL:https://www.openmicfinland.fi/event/storytelling-open-mic-vantaa/2026-10-22/
LOCATION:Kaupunkikulttuurikeskus Mosaikki\, Vantaankoskentie 69\, Vantaa\, 01700\, Finland
CATEGORIES:Open Mic (General)
END:VEVENT
BEGIN:VEVENT
DTSTART;TZID=Europe/Helsinki:20261105T180000
DTEND;TZID=Europe/Helsinki:20261105T210000
DTSTAMP:20260419T174156
CREATED:20250910T110254Z
LAST-MODIFIED:20260210T193847Z
UID:10004030-1793901600-1793912400@www.openmicfinland.fi
SUMMARY:Storytelling Open Mic @ Vantaa
DESCRIPTION:**Storytelling Open Mic @ Vantaa** \n📍 Kaupunkikulttuurikeskus Mosaikki\, Kivistö\, Vantaa\n📅 Selected Thursdays:| 18:00–21:00\n🎟️ Free entry \nStorytelling Open Mic in Vantaa invites everyone to share — tell a story from your culture\, your life\, or even something imagined. Funny or sad\, true or made-up — the stage is open for voices of every kind. \n✨ What to expect:\n🎤 10-minute slots for storytellers (sign up in advance via mosaikki@vantaa.fi)\n📖 Stories can be improvised or prepared\, in English or Finnish\n🌍 Inclusive and supportive community\n🎶 Hosted by musician & artist **Annie Trippah** \nBring your friends\, listen\, share\, and enjoy an evening of stories at Mosaikki. \n#OpenMicFinland #Vantaa #Storytelling \n➡ Follow updates: Open Mic Finland Facebook
URL:https://www.openmicfinland.fi/event/storytelling-open-mic-vantaa/2026-11-05/
LOCATION:Kaupunkikulttuurikeskus Mosaikki\, Vantaankoskentie 69\, Vantaa\, 01700\, Finland
CATEGORIES:Open Mic (General)
END:VEVENT
BEGIN:VEVENT
DTSTART;TZID=Europe/Helsinki:20261119T180000
DTEND;TZID=Europe/Helsinki:20261119T210000
DTSTAMP:20260419T174156
CREATED:20250910T110254Z
LAST-MODIFIED:20260210T193847Z
UID:10004031-1795111200-1795122000@www.openmicfinland.fi
SUMMARY:Storytelling Open Mic @ Vantaa
DESCRIPTION:**Storytelling Open Mic @ Vantaa** \n📍 Kaupunkikulttuurikeskus Mosaikki\, Kivistö\, Vantaa\n📅 Selected Thursdays:| 18:00–21:00\n🎟️ Free entry \nStorytelling Open Mic in Vantaa invites everyone to share — tell a story from your culture\, your life\, or even something imagined. Funny or sad\, true or made-up — the stage is open for voices of every kind. \n✨ What to expect:\n🎤 10-minute slots for storytellers (sign up in advance via mosaikki@vantaa.fi)\n📖 Stories can be improvised or prepared\, in English or Finnish\n🌍 Inclusive and supportive community\n🎶 Hosted by musician & artist **Annie Trippah** \nBring your friends\, listen\, share\, and enjoy an evening of stories at Mosaikki. \n#OpenMicFinland #Vantaa #Storytelling \n➡ Follow updates: Open Mic Finland Facebook
URL:https://www.openmicfinland.fi/event/storytelling-open-mic-vantaa/2026-11-19/
LOCATION:Kaupunkikulttuurikeskus Mosaikki\, Vantaankoskentie 69\, Vantaa\, 01700\, Finland
CATEGORIES:Open Mic (General)
END:VEVENT
BEGIN:VEVENT
DTSTART;TZID=Europe/Helsinki:20261203T180000
DTEND;TZID=Europe/Helsinki:20261203T210000
DTSTAMP:20260419T174156
CREATED:20250910T110254Z
LAST-MODIFIED:20260210T193847Z
UID:10004032-1796320800-1796331600@www.openmicfinland.fi
SUMMARY:Storytelling Open Mic @ Vantaa
DESCRIPTION:**Storytelling Open Mic @ Vantaa** \n📍 Kaupunkikulttuurikeskus Mosaikki\, Kivistö\, Vantaa\n📅 Selected Thursdays:| 18:00–21:00\n🎟️ Free entry \nStorytelling Open Mic in Vantaa invites everyone to share — tell a story from your culture\, your life\, or even something imagined. Funny or sad\, true or made-up — the stage is open for voices of every kind. \n✨ What to expect:\n🎤 10-minute slots for storytellers (sign up in advance via mosaikki@vantaa.fi)\n📖 Stories can be improvised or prepared\, in English or Finnish\n🌍 Inclusive and supportive community\n🎶 Hosted by musician & artist **Annie Trippah** \nBring your friends\, listen\, share\, and enjoy an evening of stories at Mosaikki. \n#OpenMicFinland #Vantaa #Storytelling \n➡ Follow updates: Open Mic Finland Facebook
URL:https://www.openmicfinland.fi/event/storytelling-open-mic-vantaa/2026-12-03/
LOCATION:Kaupunkikulttuurikeskus Mosaikki\, Vantaankoskentie 69\, Vantaa\, 01700\, Finland
CATEGORIES:Open Mic (General)
END:VEVENT
BEGIN:VEVENT
DTSTART;TZID=Europe/Helsinki:20261217T180000
DTEND;TZID=Europe/Helsinki:20261217T210000
DTSTAMP:20260419T174156
CREATED:20250910T110254Z
LAST-MODIFIED:20260210T193847Z
UID:10004033-1797530400-1797541200@www.openmicfinland.fi
SUMMARY:Storytelling Open Mic @ Vantaa
DESCRIPTION:**Storytelling Open Mic @ Vantaa** \n📍 Kaupunkikulttuurikeskus Mosaikki\, Kivistö\, Vantaa\n📅 Selected Thursdays:| 18:00–21:00\n🎟️ Free entry \nStorytelling Open Mic in Vantaa invites everyone to share — tell a story from your culture\, your life\, or even something imagined. Funny or sad\, true or made-up — the stage is open for voices of every kind. \n✨ What to expect:\n🎤 10-minute slots for storytellers (sign up in advance via mosaikki@vantaa.fi)\n📖 Stories can be improvised or prepared\, in English or Finnish\n🌍 Inclusive and supportive community\n🎶 Hosted by musician & artist **Annie Trippah** \nBring your friends\, listen\, share\, and enjoy an evening of stories at Mosaikki. \n#OpenMicFinland #Vantaa #Storytelling \n➡ Follow updates: Open Mic Finland Facebook
URL:https://www.openmicfinland.fi/event/storytelling-open-mic-vantaa/2026-12-17/
LOCATION:Kaupunkikulttuurikeskus Mosaikki\, Vantaankoskentie 69\, Vantaa\, 01700\, Finland
CATEGORIES:Open Mic (General)
END:VEVENT
BEGIN:VEVENT
DTSTART;TZID=Europe/Helsinki:20261231T180000
DTEND;TZID=Europe/Helsinki:20261231T210000
DTSTAMP:20260419T174156
CREATED:20250910T110254Z
LAST-MODIFIED:20260210T193847Z
UID:10004034-1798740000-1798750800@www.openmicfinland.fi
SUMMARY:Storytelling Open Mic @ Vantaa
DESCRIPTION:**Storytelling Open Mic @ Vantaa** \n📍 Kaupunkikulttuurikeskus Mosaikki\, Kivistö\, Vantaa\n📅 Selected Thursdays:| 18:00–21:00\n🎟️ Free entry \nStorytelling Open Mic in Vantaa invites everyone to share — tell a story from your culture\, your life\, or even something imagined. Funny or sad\, true or made-up — the stage is open for voices of every kind. \n✨ What to expect:\n🎤 10-minute slots for storytellers (sign up in advance via mosaikki@vantaa.fi)\n📖 Stories can be improvised or prepared\, in English or Finnish\n🌍 Inclusive and supportive community\n🎶 Hosted by musician & artist **Annie Trippah** \nBring your friends\, listen\, share\, and enjoy an evening of stories at Mosaikki. \n#OpenMicFinland #Vantaa #Storytelling \n➡ Follow updates: Open Mic Finland Facebook
URL:https://www.openmicfinland.fi/event/storytelling-open-mic-vantaa/2026-12-31/
LOCATION:Kaupunkikulttuurikeskus Mosaikki\, Vantaankoskentie 69\, Vantaa\, 01700\, Finland
CATEGORIES:Open Mic (General)
END:VEVENT
BEGIN:VEVENT
DTSTART;TZID=Europe/Helsinki:20270114T180000
DTEND;TZID=Europe/Helsinki:20270114T210000
DTSTAMP:20260419T174156
CREATED:20250910T110254Z
LAST-MODIFIED:20260210T193847Z
UID:10004035-1799949600-1799960400@www.openmicfinland.fi
SUMMARY:Storytelling Open Mic @ Vantaa
DESCRIPTION:**Storytelling Open Mic @ Vantaa** \n📍 Kaupunkikulttuurikeskus Mosaikki\, Kivistö\, Vantaa\n📅 Selected Thursdays:| 18:00–21:00\n🎟️ Free entry \nStorytelling Open Mic in Vantaa invites everyone to share — tell a story from your culture\, your life\, or even something imagined. Funny or sad\, true or made-up — the stage is open for voices of every kind. \n✨ What to expect:\n🎤 10-minute slots for storytellers (sign up in advance via mosaikki@vantaa.fi)\n📖 Stories can be improvised or prepared\, in English or Finnish\n🌍 Inclusive and supportive community\n🎶 Hosted by musician & artist **Annie Trippah** \nBring your friends\, listen\, share\, and enjoy an evening of stories at Mosaikki. \n#OpenMicFinland #Vantaa #Storytelling \n➡ Follow updates: Open Mic Finland Facebook
URL:https://www.openmicfinland.fi/event/storytelling-open-mic-vantaa/2027-01-14/
LOCATION:Kaupunkikulttuurikeskus Mosaikki\, Vantaankoskentie 69\, Vantaa\, 01700\, Finland
CATEGORIES:Open Mic (General)
END:VEVENT
BEGIN:VEVENT
DTSTART;TZID=Europe/Helsinki:20270128T180000
DTEND;TZID=Europe/Helsinki:20270128T210000
DTSTAMP:20260419T174156
CREATED:20250910T110254Z
LAST-MODIFIED:20260210T193847Z
UID:10004036-1801159200-1801170000@www.openmicfinland.fi
SUMMARY:Storytelling Open Mic @ Vantaa
DESCRIPTION:**Storytelling Open Mic @ Vantaa** \n📍 Kaupunkikulttuurikeskus Mosaikki\, Kivistö\, Vantaa\n📅 Selected Thursdays:| 18:00–21:00\n🎟️ Free entry \nStorytelling Open Mic in Vantaa invites everyone to share — tell a story from your culture\, your life\, or even something imagined. Funny or sad\, true or made-up — the stage is open for voices of every kind. \n✨ What to expect:\n🎤 10-minute slots for storytellers (sign up in advance via mosaikki@vantaa.fi)\n📖 Stories can be improvised or prepared\, in English or Finnish\n🌍 Inclusive and supportive community\n🎶 Hosted by musician & artist **Annie Trippah** \nBring your friends\, listen\, share\, and enjoy an evening of stories at Mosaikki. \n#OpenMicFinland #Vantaa #Storytelling \n➡ Follow updates: Open Mic Finland Facebook
URL:https://www.openmicfinland.fi/event/storytelling-open-mic-vantaa/2027-01-28/
LOCATION:Kaupunkikulttuurikeskus Mosaikki\, Vantaankoskentie 69\, Vantaa\, 01700\, Finland
CATEGORIES:Open Mic (General)
END:VEVENT
BEGIN:VEVENT
DTSTART;TZID=Europe/Helsinki:20270211T180000
DTEND;TZID=Europe/Helsinki:20270211T210000
DTSTAMP:20260419T174156
CREATED:20250910T110254Z
LAST-MODIFIED:20260210T193847Z
UID:10004037-1802368800-1802379600@www.openmicfinland.fi
SUMMARY:Storytelling Open Mic @ Vantaa
DESCRIPTION:**Storytelling Open Mic @ Vantaa** \n📍 Kaupunkikulttuurikeskus Mosaikki\, Kivistö\, Vantaa\n📅 Selected Thursdays:| 18:00–21:00\n🎟️ Free entry \nStorytelling Open Mic in Vantaa invites everyone to share — tell a story from your culture\, your life\, or even something imagined. Funny or sad\, true or made-up — the stage is open for voices of every kind. \n✨ What to expect:\n🎤 10-minute slots for storytellers (sign up in advance via mosaikki@vantaa.fi)\n📖 Stories can be improvised or prepared\, in English or Finnish\n🌍 Inclusive and supportive community\n🎶 Hosted by musician & artist **Annie Trippah** \nBring your friends\, listen\, share\, and enjoy an evening of stories at Mosaikki. \n#OpenMicFinland #Vantaa #Storytelling \n➡ Follow updates: Open Mic Finland Facebook
URL:https://www.openmicfinland.fi/event/storytelling-open-mic-vantaa/2027-02-11/
LOCATION:Kaupunkikulttuurikeskus Mosaikki\, Vantaankoskentie 69\, Vantaa\, 01700\, Finland
CATEGORIES:Open Mic (General)
END:VEVENT
END:VCALENDAR