BEGIN:VCALENDAR
VERSION:2.0
PRODID:-//OpenmicFinland.fi - ECPv6.15.20//NONSGML v1.0//EN
CALSCALE:GREGORIAN
METHOD:PUBLISH
X-WR-CALNAME:OpenmicFinland.fi
X-ORIGINAL-URL:https://www.openmicfinland.fi
X-WR-CALDESC:Events for OpenmicFinland.fi
REFRESH-INTERVAL;VALUE=DURATION:PT1H
X-Robots-Tag:noindex
X-PUBLISHED-TTL:PT1H
BEGIN:VTIMEZONE
TZID:Europe/Helsinki
BEGIN:DAYLIGHT
TZOFFSETFROM:+0200
TZOFFSETTO:+0300
TZNAME:EEST
DTSTART:20250330T010000
END:DAYLIGHT
BEGIN:STANDARD
TZOFFSETFROM:+0300
TZOFFSETTO:+0200
TZNAME:EET
DTSTART:20251026T010000
END:STANDARD
BEGIN:DAYLIGHT
TZOFFSETFROM:+0200
TZOFFSETTO:+0300
TZNAME:EEST
DTSTART:20260329T010000
END:DAYLIGHT
BEGIN:STANDARD
TZOFFSETFROM:+0300
TZOFFSETTO:+0200
TZNAME:EET
DTSTART:20261025T010000
END:STANDARD
BEGIN:DAYLIGHT
TZOFFSETFROM:+0200
TZOFFSETTO:+0300
TZNAME:EEST
DTSTART:20270328T010000
END:DAYLIGHT
BEGIN:STANDARD
TZOFFSETFROM:+0300
TZOFFSETTO:+0200
TZNAME:EET
DTSTART:20271031T010000
END:STANDARD
END:VTIMEZONE
BEGIN:VEVENT
DTSTART;TZID=Europe/Helsinki:20260419T190000
DTEND;TZID=Europe/Helsinki:20260419T235900
DTSTAMP:20260419T150612
CREATED:20260226T092500Z
LAST-MODIFIED:20260226T093236Z
UID:10004126-1776625200-1776643140@www.openmicfinland.fi
SUMMARY:Music Jams Helsinki @ Helsinki
DESCRIPTION:📍 Bar Itän Tähti\, Asiakkaankatu 3\, 00930 Helsinki\n⏰ Sunday | 19:00–23:00\n🎟️ Free entry \n🎸 Music Jams Helsinki night in Bar Idän Tähti – Sunday the stage opens for musicians\, singers and music lovers. Free entry\, live music. \nWhat to expect:\n🎤 Open stage for singers and musicians \n🍹 Drinks available at the bar \n🎸Instruments: Basic backline available; you’re welcome to bring your own instrument. \nThe house band usually plays hippie/psychedelic rock with funky vibes\, but musicians of all styles are welcome. Bring an instrument\, sing\, or simply enjoy the music. \n\n#OpenMicFinland #Helsinki #MusicJam #jamit \n\nℹ️ Open Mic Finland is an independent info hub — we simply gather and share details so everyone can discover inspiring stages across Finland. \n➡ Follow updates: Open Mic Finland Facebook
URL:https://www.openmicfinland.fi/event/music-jams-helsinki-helsinki-2-2/2026-04-19/
LOCATION:Bar Itän Tähti\, Lyypekinkuja 9\, Helsinki\, 00930\, Finland
CATEGORIES:Music Jams
END:VEVENT
BEGIN:VEVENT
DTSTART;TZID=Europe/Helsinki:20260426T190000
DTEND;TZID=Europe/Helsinki:20260426T235900
DTSTAMP:20260419T150612
CREATED:20260226T092500Z
LAST-MODIFIED:20260226T093236Z
UID:10004127-1777230000-1777247940@www.openmicfinland.fi
SUMMARY:Music Jams Helsinki @ Helsinki
DESCRIPTION:📍 Bar Itän Tähti\, Asiakkaankatu 3\, 00930 Helsinki\n⏰ Sunday | 19:00–23:00\n🎟️ Free entry \n🎸 Music Jams Helsinki night in Bar Idän Tähti – Sunday the stage opens for musicians\, singers and music lovers. Free entry\, live music. \nWhat to expect:\n🎤 Open stage for singers and musicians \n🍹 Drinks available at the bar \n🎸Instruments: Basic backline available; you’re welcome to bring your own instrument. \nThe house band usually plays hippie/psychedelic rock with funky vibes\, but musicians of all styles are welcome. Bring an instrument\, sing\, or simply enjoy the music. \n\n#OpenMicFinland #Helsinki #MusicJam #jamit \n\nℹ️ Open Mic Finland is an independent info hub — we simply gather and share details so everyone can discover inspiring stages across Finland. \n➡ Follow updates: Open Mic Finland Facebook
URL:https://www.openmicfinland.fi/event/music-jams-helsinki-helsinki-2-2/2026-04-26/
LOCATION:Bar Itän Tähti\, Lyypekinkuja 9\, Helsinki\, 00930\, Finland
CATEGORIES:Music Jams
END:VEVENT
BEGIN:VEVENT
DTSTART;TZID=Europe/Helsinki:20260503T190000
DTEND;TZID=Europe/Helsinki:20260503T235900
DTSTAMP:20260419T150612
CREATED:20260226T092500Z
LAST-MODIFIED:20260226T093236Z
UID:10004128-1777834800-1777852740@www.openmicfinland.fi
SUMMARY:Music Jams Helsinki @ Helsinki
DESCRIPTION:📍 Bar Itän Tähti\, Asiakkaankatu 3\, 00930 Helsinki\n⏰ Sunday | 19:00–23:00\n🎟️ Free entry \n🎸 Music Jams Helsinki night in Bar Idän Tähti – Sunday the stage opens for musicians\, singers and music lovers. Free entry\, live music. \nWhat to expect:\n🎤 Open stage for singers and musicians \n🍹 Drinks available at the bar \n🎸Instruments: Basic backline available; you’re welcome to bring your own instrument. \nThe house band usually plays hippie/psychedelic rock with funky vibes\, but musicians of all styles are welcome. Bring an instrument\, sing\, or simply enjoy the music. \n\n#OpenMicFinland #Helsinki #MusicJam #jamit \n\nℹ️ Open Mic Finland is an independent info hub — we simply gather and share details so everyone can discover inspiring stages across Finland. \n➡ Follow updates: Open Mic Finland Facebook
URL:https://www.openmicfinland.fi/event/music-jams-helsinki-helsinki-2-2/2026-05-03/
LOCATION:Bar Itän Tähti\, Lyypekinkuja 9\, Helsinki\, 00930\, Finland
CATEGORIES:Music Jams
END:VEVENT
BEGIN:VEVENT
DTSTART;TZID=Europe/Helsinki:20260510T190000
DTEND;TZID=Europe/Helsinki:20260510T235900
DTSTAMP:20260419T150612
CREATED:20260226T092500Z
LAST-MODIFIED:20260226T093236Z
UID:10004129-1778439600-1778457540@www.openmicfinland.fi
SUMMARY:Music Jams Helsinki @ Helsinki
DESCRIPTION:📍 Bar Itän Tähti\, Asiakkaankatu 3\, 00930 Helsinki\n⏰ Sunday | 19:00–23:00\n🎟️ Free entry \n🎸 Music Jams Helsinki night in Bar Idän Tähti – Sunday the stage opens for musicians\, singers and music lovers. Free entry\, live music. \nWhat to expect:\n🎤 Open stage for singers and musicians \n🍹 Drinks available at the bar \n🎸Instruments: Basic backline available; you’re welcome to bring your own instrument. \nThe house band usually plays hippie/psychedelic rock with funky vibes\, but musicians of all styles are welcome. Bring an instrument\, sing\, or simply enjoy the music. \n\n#OpenMicFinland #Helsinki #MusicJam #jamit \n\nℹ️ Open Mic Finland is an independent info hub — we simply gather and share details so everyone can discover inspiring stages across Finland. \n➡ Follow updates: Open Mic Finland Facebook
URL:https://www.openmicfinland.fi/event/music-jams-helsinki-helsinki-2-2/2026-05-10/
LOCATION:Bar Itän Tähti\, Lyypekinkuja 9\, Helsinki\, 00930\, Finland
CATEGORIES:Music Jams
END:VEVENT
BEGIN:VEVENT
DTSTART;TZID=Europe/Helsinki:20260517T190000
DTEND;TZID=Europe/Helsinki:20260517T235900
DTSTAMP:20260419T150612
CREATED:20260226T092500Z
LAST-MODIFIED:20260226T093236Z
UID:10004130-1779044400-1779062340@www.openmicfinland.fi
SUMMARY:Music Jams Helsinki @ Helsinki
DESCRIPTION:📍 Bar Itän Tähti\, Asiakkaankatu 3\, 00930 Helsinki\n⏰ Sunday | 19:00–23:00\n🎟️ Free entry \n🎸 Music Jams Helsinki night in Bar Idän Tähti – Sunday the stage opens for musicians\, singers and music lovers. Free entry\, live music. \nWhat to expect:\n🎤 Open stage for singers and musicians \n🍹 Drinks available at the bar \n🎸Instruments: Basic backline available; you’re welcome to bring your own instrument. \nThe house band usually plays hippie/psychedelic rock with funky vibes\, but musicians of all styles are welcome. Bring an instrument\, sing\, or simply enjoy the music. \n\n#OpenMicFinland #Helsinki #MusicJam #jamit \n\nℹ️ Open Mic Finland is an independent info hub — we simply gather and share details so everyone can discover inspiring stages across Finland. \n➡ Follow updates: Open Mic Finland Facebook
URL:https://www.openmicfinland.fi/event/music-jams-helsinki-helsinki-2-2/2026-05-17/
LOCATION:Bar Itän Tähti\, Lyypekinkuja 9\, Helsinki\, 00930\, Finland
CATEGORIES:Music Jams
END:VEVENT
BEGIN:VEVENT
DTSTART;TZID=Europe/Helsinki:20260524T190000
DTEND;TZID=Europe/Helsinki:20260524T235900
DTSTAMP:20260419T150612
CREATED:20260226T092500Z
LAST-MODIFIED:20260226T093236Z
UID:10004131-1779649200-1779667140@www.openmicfinland.fi
SUMMARY:Music Jams Helsinki @ Helsinki
DESCRIPTION:📍 Bar Itän Tähti\, Asiakkaankatu 3\, 00930 Helsinki\n⏰ Sunday | 19:00–23:00\n🎟️ Free entry \n🎸 Music Jams Helsinki night in Bar Idän Tähti – Sunday the stage opens for musicians\, singers and music lovers. Free entry\, live music. \nWhat to expect:\n🎤 Open stage for singers and musicians \n🍹 Drinks available at the bar \n🎸Instruments: Basic backline available; you’re welcome to bring your own instrument. \nThe house band usually plays hippie/psychedelic rock with funky vibes\, but musicians of all styles are welcome. Bring an instrument\, sing\, or simply enjoy the music. \n\n#OpenMicFinland #Helsinki #MusicJam #jamit \n\nℹ️ Open Mic Finland is an independent info hub — we simply gather and share details so everyone can discover inspiring stages across Finland. \n➡ Follow updates: Open Mic Finland Facebook
URL:https://www.openmicfinland.fi/event/music-jams-helsinki-helsinki-2-2/2026-05-24/
LOCATION:Bar Itän Tähti\, Lyypekinkuja 9\, Helsinki\, 00930\, Finland
CATEGORIES:Music Jams
END:VEVENT
BEGIN:VEVENT
DTSTART;TZID=Europe/Helsinki:20260531T190000
DTEND;TZID=Europe/Helsinki:20260531T235900
DTSTAMP:20260419T150612
CREATED:20260226T092500Z
LAST-MODIFIED:20260226T093236Z
UID:10004118-1780254000-1780271940@www.openmicfinland.fi
SUMMARY:Music Jams Helsinki @ Helsinki
DESCRIPTION:📍 Bar Itän Tähti\, Asiakkaankatu 3\, 00930 Helsinki\n⏰ Sunday | 19:00–23:00\n🎟️ Free entry \n🎸 Music Jams Helsinki night in Bar Idän Tähti – Sunday the stage opens for musicians\, singers and music lovers. Free entry\, live music. \nWhat to expect:\n🎤 Open stage for singers and musicians \n🍹 Drinks available at the bar \n🎸Instruments: Basic backline available; you’re welcome to bring your own instrument. \nThe house band usually plays hippie/psychedelic rock with funky vibes\, but musicians of all styles are welcome. Bring an instrument\, sing\, or simply enjoy the music. \n\n#OpenMicFinland #Helsinki #MusicJam #jamit \n\nℹ️ Open Mic Finland is an independent info hub — we simply gather and share details so everyone can discover inspiring stages across Finland. \n➡ Follow updates: Open Mic Finland Facebook
URL:https://www.openmicfinland.fi/event/music-jams-helsinki-helsinki-2-2/2026-05-31/
LOCATION:Bar Itän Tähti\, Lyypekinkuja 9\, Helsinki\, 00930\, Finland
CATEGORIES:Music Jams
END:VEVENT
BEGIN:VEVENT
DTSTART;TZID=Europe/Helsinki:20260607T190000
DTEND;TZID=Europe/Helsinki:20260607T235900
DTSTAMP:20260419T150612
CREATED:20260226T092500Z
LAST-MODIFIED:20260226T093236Z
UID:10004132-1780858800-1780876740@www.openmicfinland.fi
SUMMARY:Music Jams Helsinki @ Helsinki
DESCRIPTION:📍 Bar Itän Tähti\, Asiakkaankatu 3\, 00930 Helsinki\n⏰ Sunday | 19:00–23:00\n🎟️ Free entry \n🎸 Music Jams Helsinki night in Bar Idän Tähti – Sunday the stage opens for musicians\, singers and music lovers. Free entry\, live music. \nWhat to expect:\n🎤 Open stage for singers and musicians \n🍹 Drinks available at the bar \n🎸Instruments: Basic backline available; you’re welcome to bring your own instrument. \nThe house band usually plays hippie/psychedelic rock with funky vibes\, but musicians of all styles are welcome. Bring an instrument\, sing\, or simply enjoy the music. \n\n#OpenMicFinland #Helsinki #MusicJam #jamit \n\nℹ️ Open Mic Finland is an independent info hub — we simply gather and share details so everyone can discover inspiring stages across Finland. \n➡ Follow updates: Open Mic Finland Facebook
URL:https://www.openmicfinland.fi/event/music-jams-helsinki-helsinki-2-2/2026-06-07/
LOCATION:Bar Itän Tähti\, Lyypekinkuja 9\, Helsinki\, 00930\, Finland
CATEGORIES:Music Jams
END:VEVENT
BEGIN:VEVENT
DTSTART;TZID=Europe/Helsinki:20260614T190000
DTEND;TZID=Europe/Helsinki:20260614T235900
DTSTAMP:20260419T150612
CREATED:20260226T092500Z
LAST-MODIFIED:20260226T093236Z
UID:10004133-1781463600-1781481540@www.openmicfinland.fi
SUMMARY:Music Jams Helsinki @ Helsinki
DESCRIPTION:📍 Bar Itän Tähti\, Asiakkaankatu 3\, 00930 Helsinki\n⏰ Sunday | 19:00–23:00\n🎟️ Free entry \n🎸 Music Jams Helsinki night in Bar Idän Tähti – Sunday the stage opens for musicians\, singers and music lovers. Free entry\, live music. \nWhat to expect:\n🎤 Open stage for singers and musicians \n🍹 Drinks available at the bar \n🎸Instruments: Basic backline available; you’re welcome to bring your own instrument. \nThe house band usually plays hippie/psychedelic rock with funky vibes\, but musicians of all styles are welcome. Bring an instrument\, sing\, or simply enjoy the music. \n\n#OpenMicFinland #Helsinki #MusicJam #jamit \n\nℹ️ Open Mic Finland is an independent info hub — we simply gather and share details so everyone can discover inspiring stages across Finland. \n➡ Follow updates: Open Mic Finland Facebook
URL:https://www.openmicfinland.fi/event/music-jams-helsinki-helsinki-2-2/2026-06-14/
LOCATION:Bar Itän Tähti\, Lyypekinkuja 9\, Helsinki\, 00930\, Finland
CATEGORIES:Music Jams
END:VEVENT
BEGIN:VEVENT
DTSTART;TZID=Europe/Helsinki:20260621T190000
DTEND;TZID=Europe/Helsinki:20260621T235900
DTSTAMP:20260419T150612
CREATED:20260226T092500Z
LAST-MODIFIED:20260226T093236Z
UID:10004134-1782068400-1782086340@www.openmicfinland.fi
SUMMARY:Music Jams Helsinki @ Helsinki
DESCRIPTION:📍 Bar Itän Tähti\, Asiakkaankatu 3\, 00930 Helsinki\n⏰ Sunday | 19:00–23:00\n🎟️ Free entry \n🎸 Music Jams Helsinki night in Bar Idän Tähti – Sunday the stage opens for musicians\, singers and music lovers. Free entry\, live music. \nWhat to expect:\n🎤 Open stage for singers and musicians \n🍹 Drinks available at the bar \n🎸Instruments: Basic backline available; you’re welcome to bring your own instrument. \nThe house band usually plays hippie/psychedelic rock with funky vibes\, but musicians of all styles are welcome. Bring an instrument\, sing\, or simply enjoy the music. \n\n#OpenMicFinland #Helsinki #MusicJam #jamit \n\nℹ️ Open Mic Finland is an independent info hub — we simply gather and share details so everyone can discover inspiring stages across Finland. \n➡ Follow updates: Open Mic Finland Facebook
URL:https://www.openmicfinland.fi/event/music-jams-helsinki-helsinki-2-2/2026-06-21/
LOCATION:Bar Itän Tähti\, Lyypekinkuja 9\, Helsinki\, 00930\, Finland
CATEGORIES:Music Jams
END:VEVENT
BEGIN:VEVENT
DTSTART;TZID=Europe/Helsinki:20260628T190000
DTEND;TZID=Europe/Helsinki:20260628T235900
DTSTAMP:20260419T150612
CREATED:20260226T092500Z
LAST-MODIFIED:20260226T093236Z
UID:10004135-1782673200-1782691140@www.openmicfinland.fi
SUMMARY:Music Jams Helsinki @ Helsinki
DESCRIPTION:📍 Bar Itän Tähti\, Asiakkaankatu 3\, 00930 Helsinki\n⏰ Sunday | 19:00–23:00\n🎟️ Free entry \n🎸 Music Jams Helsinki night in Bar Idän Tähti – Sunday the stage opens for musicians\, singers and music lovers. Free entry\, live music. \nWhat to expect:\n🎤 Open stage for singers and musicians \n🍹 Drinks available at the bar \n🎸Instruments: Basic backline available; you’re welcome to bring your own instrument. \nThe house band usually plays hippie/psychedelic rock with funky vibes\, but musicians of all styles are welcome. Bring an instrument\, sing\, or simply enjoy the music. \n\n#OpenMicFinland #Helsinki #MusicJam #jamit \n\nℹ️ Open Mic Finland is an independent info hub — we simply gather and share details so everyone can discover inspiring stages across Finland. \n➡ Follow updates: Open Mic Finland Facebook
URL:https://www.openmicfinland.fi/event/music-jams-helsinki-helsinki-2-2/2026-06-28/
LOCATION:Bar Itän Tähti\, Lyypekinkuja 9\, Helsinki\, 00930\, Finland
CATEGORIES:Music Jams
END:VEVENT
END:VCALENDAR