BEGIN:VCALENDAR
VERSION:2.0
PRODID:-//OpenmicFinland.fi - ECPv6.15.20//NONSGML v1.0//EN
CALSCALE:GREGORIAN
METHOD:PUBLISH
X-ORIGINAL-URL:https://www.openmicfinland.fi
X-WR-CALDESC:Events for OpenmicFinland.fi
REFRESH-INTERVAL;VALUE=DURATION:PT1H
X-Robots-Tag:noindex
X-PUBLISHED-TTL:PT1H
BEGIN:VTIMEZONE
TZID:Europe/Helsinki
BEGIN:DAYLIGHT
TZOFFSETFROM:+0200
TZOFFSETTO:+0300
TZNAME:EEST
DTSTART:20250330T010000
END:DAYLIGHT
BEGIN:STANDARD
TZOFFSETFROM:+0300
TZOFFSETTO:+0200
TZNAME:EET
DTSTART:20251026T010000
END:STANDARD
BEGIN:DAYLIGHT
TZOFFSETFROM:+0200
TZOFFSETTO:+0300
TZNAME:EEST
DTSTART:20260329T010000
END:DAYLIGHT
BEGIN:STANDARD
TZOFFSETFROM:+0300
TZOFFSETTO:+0200
TZNAME:EET
DTSTART:20261025T010000
END:STANDARD
BEGIN:DAYLIGHT
TZOFFSETFROM:+0200
TZOFFSETTO:+0300
TZNAME:EEST
DTSTART:20270328T010000
END:DAYLIGHT
BEGIN:STANDARD
TZOFFSETFROM:+0300
TZOFFSETTO:+0200
TZNAME:EET
DTSTART:20271031T010000
END:STANDARD
END:VTIMEZONE
BEGIN:VEVENT
DTSTART;TZID=Europe/Helsinki:20260301T190000
DTEND;TZID=Europe/Helsinki:20260301T230000
DTSTAMP:20260419T193309
CREATED:20250829T022952Z
LAST-MODIFIED:20250929T200334Z
UID:10001922-1772391600-1772406000@www.openmicfinland.fi
SUMMARY:Nousuvesi Jam Night @ Espoo
DESCRIPTION:**Nousuvesi Jam Night @ Espoo** \n📍 Nousuvesi\, Merenkäynti 3\, 02320 Espoo\n🗓 Every Sunday | 19:00–23:00\n💸 Free entry \nExperience Nousuvesi Jam Night in Espoo — an open jam evening welcoming musicians\, singers\, and music lovers. Free entry\, live music\, and relaxed vibes. \nStep into the unique Nousuvesi stage in Espoo — a friendly spot where the stage opens every Sunday for live jams and creative energy. \n**What to expect:**\n🎤 Open stage for singers and musicians\n🎸 Live jams with a mix of local players\n🍻 Drinks and light refreshments available\n✨ Friendly\, creative atmosphere \nCome to share your song\, join the jam\, or just enjoy the energy in the audience. \n#OpenMicFinland #Espoo #MusicJam \nℹ️ Open Mic Finland is an independent information hub and does not organise this event.Follow Open Mic Finland to explore more open mics\, jams\, and creative stages across Finland. \n➡ Follow updates: Open Mic Finland Facebook
URL:https://www.openmicfinland.fi/event/high-tide-sunday-jam-6/2026-03-01/
LOCATION:Pub Nousuvesi\, Merenkäynti 3\, Espoo\, 02320\, Finland
CATEGORIES:Music Jams
END:VEVENT
BEGIN:VEVENT
DTSTART;TZID=Europe/Helsinki:20260306T160000
DTEND;TZID=Europe/Helsinki:20260306T220000
DTSTAMP:20260419T193309
CREATED:20260305T214755Z
LAST-MODIFIED:20260305T214755Z
UID:10004380-1772812800-1772834400@www.openmicfinland.fi
SUMMARY:Hevosmiehentupa Jam @ Espoo
DESCRIPTION:Hevosmiehentupa Jam Session\n📍 Hevosmiehentupa\, Karhusaarenpiha 5\, 02100 Espoo\, Finland\n🗓 March 6\n⏰ Jam session: 4:00 PM – 10:00 PM\n🎤 Open jam session\n🎶 Style: Mixed / open jam \nWhat to expect\nJam session at Hevosmiehentupa. Bring your instrument and a drink\, and join the jam.\nThe event takes place on Fridays from 4:00 PM to 10:00 PM.\nEveryone is welcome to play\, sing\, or simply enjoy the relaxed atmosphere. \nOrganizer\nPro Karhusaari – Karhusaari kaikille \nhttps://facebook.com/events/s/hevosmiehentuvan-jamit/1226568446351497/
URL:https://www.openmicfinland.fi/event/hevosmiehentupa-jam-espoo/
LOCATION:Hevosmeiehentupa\, Karhusaarenpiha 5\, Espoo\, 02100\, Finland
CATEGORIES:Music Jams
ORGANIZER;CN="Open Mic Finland":MAILTO:info@openmicfinland.fi
END:VEVENT
BEGIN:VEVENT
DTSTART;TZID=Europe/Helsinki:20260308T190000
DTEND;TZID=Europe/Helsinki:20260308T230000
DTSTAMP:20260419T193309
CREATED:20250829T022952Z
LAST-MODIFIED:20250929T200334Z
UID:10001923-1772996400-1773010800@www.openmicfinland.fi
SUMMARY:Nousuvesi Jam Night @ Espoo
DESCRIPTION:**Nousuvesi Jam Night @ Espoo** \n📍 Nousuvesi\, Merenkäynti 3\, 02320 Espoo\n🗓 Every Sunday | 19:00–23:00\n💸 Free entry \nExperience Nousuvesi Jam Night in Espoo — an open jam evening welcoming musicians\, singers\, and music lovers. Free entry\, live music\, and relaxed vibes. \nStep into the unique Nousuvesi stage in Espoo — a friendly spot where the stage opens every Sunday for live jams and creative energy. \n**What to expect:**\n🎤 Open stage for singers and musicians\n🎸 Live jams with a mix of local players\n🍻 Drinks and light refreshments available\n✨ Friendly\, creative atmosphere \nCome to share your song\, join the jam\, or just enjoy the energy in the audience. \n#OpenMicFinland #Espoo #MusicJam \nℹ️ Open Mic Finland is an independent information hub and does not organise this event.Follow Open Mic Finland to explore more open mics\, jams\, and creative stages across Finland. \n➡ Follow updates: Open Mic Finland Facebook
URL:https://www.openmicfinland.fi/event/high-tide-sunday-jam-6/2026-03-08/
LOCATION:Pub Nousuvesi\, Merenkäynti 3\, Espoo\, 02320\, Finland
CATEGORIES:Music Jams
END:VEVENT
BEGIN:VEVENT
DTSTART;TZID=Europe/Helsinki:20260313T190000
DTEND;TZID=Europe/Helsinki:20260313T220000
DTSTAMP:20260419T193309
CREATED:20250829T154036Z
LAST-MODIFIED:20260115T225809Z
UID:10003612-1773428400-1773439200@www.openmicfinland.fi
SUMMARY:Bestis Jazz Jam @ Espoo
DESCRIPTION:🎶 Monthly Jazz Jam @ Bestis Karaoke & Nightlife\n📍 Yläkartanontie 28\, 02360 Espoo\n🗓 Once a month · 19:00–22:00\n🎟 Free entry (cloakroom fee may apply)\n\nStep into a cozy jazz lounge atmosphere — soulful melodies\, smooth standards\, and open improvisation in a unique karaoke nightclub setting. \n\n🎷 Jam with us! Whether you’re a musician\, singer or music lover\, there’s room for everyone.\n🎹 Keyboard is available on site – bring your own instrument if needed.\n🍸 Enjoy great drinks and warm community vibes.\nℹ️ Open Mic Finland is an independent information hub and does not organise this event.Follow Open Mic Finland to explore more open mics\, jams\, and creative stages across Finland.➡ Follow updates: Open Mic Finland Facebook
URL:https://www.openmicfinland.fi/event/jazz-jam-bestis-karaoke-nightlife/2026-03-13/
LOCATION:Bestis Karaoke & Nightlife\, Yläkartanontie 28\, 02360 Espoo\, Espoo\, 02360\, Finland
CATEGORIES:Music Jams
END:VEVENT
BEGIN:VEVENT
DTSTART;TZID=Europe/Helsinki:20260315T190000
DTEND;TZID=Europe/Helsinki:20260315T230000
DTSTAMP:20260419T193309
CREATED:20250829T022952Z
LAST-MODIFIED:20250929T200334Z
UID:10001924-1773601200-1773615600@www.openmicfinland.fi
SUMMARY:Nousuvesi Jam Night @ Espoo
DESCRIPTION:**Nousuvesi Jam Night @ Espoo** \n📍 Nousuvesi\, Merenkäynti 3\, 02320 Espoo\n🗓 Every Sunday | 19:00–23:00\n💸 Free entry \nExperience Nousuvesi Jam Night in Espoo — an open jam evening welcoming musicians\, singers\, and music lovers. Free entry\, live music\, and relaxed vibes. \nStep into the unique Nousuvesi stage in Espoo — a friendly spot where the stage opens every Sunday for live jams and creative energy. \n**What to expect:**\n🎤 Open stage for singers and musicians\n🎸 Live jams with a mix of local players\n🍻 Drinks and light refreshments available\n✨ Friendly\, creative atmosphere \nCome to share your song\, join the jam\, or just enjoy the energy in the audience. \n#OpenMicFinland #Espoo #MusicJam \nℹ️ Open Mic Finland is an independent information hub and does not organise this event.Follow Open Mic Finland to explore more open mics\, jams\, and creative stages across Finland. \n➡ Follow updates: Open Mic Finland Facebook
URL:https://www.openmicfinland.fi/event/high-tide-sunday-jam-6/2026-03-15/
LOCATION:Pub Nousuvesi\, Merenkäynti 3\, Espoo\, 02320\, Finland
CATEGORIES:Music Jams
END:VEVENT
BEGIN:VEVENT
DTSTART;TZID=Europe/Helsinki:20260322T190000
DTEND;TZID=Europe/Helsinki:20260322T230000
DTSTAMP:20260419T193309
CREATED:20250829T022952Z
LAST-MODIFIED:20250929T200334Z
UID:10001925-1774206000-1774220400@www.openmicfinland.fi
SUMMARY:Nousuvesi Jam Night @ Espoo
DESCRIPTION:**Nousuvesi Jam Night @ Espoo** \n📍 Nousuvesi\, Merenkäynti 3\, 02320 Espoo\n🗓 Every Sunday | 19:00–23:00\n💸 Free entry \nExperience Nousuvesi Jam Night in Espoo — an open jam evening welcoming musicians\, singers\, and music lovers. Free entry\, live music\, and relaxed vibes. \nStep into the unique Nousuvesi stage in Espoo — a friendly spot where the stage opens every Sunday for live jams and creative energy. \n**What to expect:**\n🎤 Open stage for singers and musicians\n🎸 Live jams with a mix of local players\n🍻 Drinks and light refreshments available\n✨ Friendly\, creative atmosphere \nCome to share your song\, join the jam\, or just enjoy the energy in the audience. \n#OpenMicFinland #Espoo #MusicJam \nℹ️ Open Mic Finland is an independent information hub and does not organise this event.Follow Open Mic Finland to explore more open mics\, jams\, and creative stages across Finland. \n➡ Follow updates: Open Mic Finland Facebook
URL:https://www.openmicfinland.fi/event/high-tide-sunday-jam-6/2026-03-22/
LOCATION:Pub Nousuvesi\, Merenkäynti 3\, Espoo\, 02320\, Finland
CATEGORIES:Music Jams
END:VEVENT
BEGIN:VEVENT
DTSTART;TZID=Europe/Helsinki:20260326T173000
DTEND;TZID=Europe/Helsinki:20260326T190000
DTSTAMP:20260419T193309
CREATED:20251119T223419Z
LAST-MODIFIED:20260128T221941Z
UID:10003713-1774546200-1774551600@www.openmicfinland.fi
SUMMARY:Omppu Open Mic Runostage @ Espoo
DESCRIPTION:📍 Where: Ison Omenan kirjasto\, Suomenlahdentie 1\, Espoo \n🕒 When: Selected Thursdays\, 17:30–19:00 (check dates in the calendar) \n💸 Cost: Free entry \nBeloved poetry open mic at Iso Omena Library’s Stage.\nJoin an inviting space where you can share poems\, short stories\, or spoken-word pieces — prepared or improvised.\nWarm-up acts sometimes set the mood\, and a friendly host guides the evening. \n\n📖 Bring your own texts or enjoy listening from the audience\n✨ Supportive\, creative atmosphere\n\nStep up to the mic or simply enjoy a cosy evening of words at the library. \nℹ️ Open Mic Finland is an independent information hub and does not organise this event. \n➡ Follow updates: Open Mic Finland Facebook \n#openmicfinland #Espoo #poetry #spokenword
URL:https://www.openmicfinland.fi/event/omppu-open-mic-runostage-espoo-2/2026-03-26/
LOCATION:Iso Omena Kirjasto\, Suomenlahden tie 1\, Espoo
CATEGORIES:Spoken Word
END:VEVENT
BEGIN:VEVENT
DTSTART;TZID=Europe/Helsinki:20260329T190000
DTEND;TZID=Europe/Helsinki:20260329T230000
DTSTAMP:20260419T193309
CREATED:20250829T022952Z
LAST-MODIFIED:20250929T200334Z
UID:10001926-1774810800-1774825200@www.openmicfinland.fi
SUMMARY:Nousuvesi Jam Night @ Espoo
DESCRIPTION:**Nousuvesi Jam Night @ Espoo** \n📍 Nousuvesi\, Merenkäynti 3\, 02320 Espoo\n🗓 Every Sunday | 19:00–23:00\n💸 Free entry \nExperience Nousuvesi Jam Night in Espoo — an open jam evening welcoming musicians\, singers\, and music lovers. Free entry\, live music\, and relaxed vibes. \nStep into the unique Nousuvesi stage in Espoo — a friendly spot where the stage opens every Sunday for live jams and creative energy. \n**What to expect:**\n🎤 Open stage for singers and musicians\n🎸 Live jams with a mix of local players\n🍻 Drinks and light refreshments available\n✨ Friendly\, creative atmosphere \nCome to share your song\, join the jam\, or just enjoy the energy in the audience. \n#OpenMicFinland #Espoo #MusicJam \nℹ️ Open Mic Finland is an independent information hub and does not organise this event.Follow Open Mic Finland to explore more open mics\, jams\, and creative stages across Finland. \n➡ Follow updates: Open Mic Finland Facebook
URL:https://www.openmicfinland.fi/event/high-tide-sunday-jam-6/2026-03-29/
LOCATION:Pub Nousuvesi\, Merenkäynti 3\, Espoo\, 02320\, Finland
CATEGORIES:Music Jams
END:VEVENT
END:VCALENDAR