BEGIN:VCALENDAR
VERSION:2.0
PRODID:-//OpenmicFinland.fi - ECPv6.15.20//NONSGML v1.0//EN
CALSCALE:GREGORIAN
METHOD:PUBLISH
X-ORIGINAL-URL:https://www.openmicfinland.fi
X-WR-CALDESC:Events for OpenmicFinland.fi
REFRESH-INTERVAL;VALUE=DURATION:PT1H
X-Robots-Tag:noindex
X-PUBLISHED-TTL:PT1H
BEGIN:VTIMEZONE
TZID:Europe/Helsinki
BEGIN:DAYLIGHT
TZOFFSETFROM:+0200
TZOFFSETTO:+0300
TZNAME:EEST
DTSTART:20250330T010000
END:DAYLIGHT
BEGIN:STANDARD
TZOFFSETFROM:+0300
TZOFFSETTO:+0200
TZNAME:EET
DTSTART:20251026T010000
END:STANDARD
BEGIN:DAYLIGHT
TZOFFSETFROM:+0200
TZOFFSETTO:+0300
TZNAME:EEST
DTSTART:20260329T010000
END:DAYLIGHT
BEGIN:STANDARD
TZOFFSETFROM:+0300
TZOFFSETTO:+0200
TZNAME:EET
DTSTART:20261025T010000
END:STANDARD
BEGIN:DAYLIGHT
TZOFFSETFROM:+0200
TZOFFSETTO:+0300
TZNAME:EEST
DTSTART:20270328T010000
END:DAYLIGHT
BEGIN:STANDARD
TZOFFSETFROM:+0300
TZOFFSETTO:+0200
TZNAME:EET
DTSTART:20271031T010000
END:STANDARD
END:VTIMEZONE
BEGIN:VEVENT
DTSTART;TZID=Europe/Helsinki:20260503T190000
DTEND;TZID=Europe/Helsinki:20260503T230000
DTSTAMP:20260419T193246
CREATED:20250829T022952Z
LAST-MODIFIED:20250929T200334Z
UID:10001931-1777834800-1777849200@www.openmicfinland.fi
SUMMARY:Nousuvesi Jam Night @ Espoo
DESCRIPTION:**Nousuvesi Jam Night @ Espoo** \n📍 Nousuvesi\, Merenkäynti 3\, 02320 Espoo\n🗓 Every Sunday | 19:00–23:00\n💸 Free entry \nExperience Nousuvesi Jam Night in Espoo — an open jam evening welcoming musicians\, singers\, and music lovers. Free entry\, live music\, and relaxed vibes. \nStep into the unique Nousuvesi stage in Espoo — a friendly spot where the stage opens every Sunday for live jams and creative energy. \n**What to expect:**\n🎤 Open stage for singers and musicians\n🎸 Live jams with a mix of local players\n🍻 Drinks and light refreshments available\n✨ Friendly\, creative atmosphere \nCome to share your song\, join the jam\, or just enjoy the energy in the audience. \n#OpenMicFinland #Espoo #MusicJam \nℹ️ Open Mic Finland is an independent information hub and does not organise this event.Follow Open Mic Finland to explore more open mics\, jams\, and creative stages across Finland. \n➡ Follow updates: Open Mic Finland Facebook
URL:https://www.openmicfinland.fi/event/high-tide-sunday-jam-6/2026-05-03/
LOCATION:Pub Nousuvesi\, Merenkäynti 3\, Espoo\, 02320\, Finland
CATEGORIES:Music Jams
END:VEVENT
BEGIN:VEVENT
DTSTART;TZID=Europe/Helsinki:20260510T190000
DTEND;TZID=Europe/Helsinki:20260510T230000
DTSTAMP:20260419T193246
CREATED:20250829T022952Z
LAST-MODIFIED:20250929T200334Z
UID:10001932-1778439600-1778454000@www.openmicfinland.fi
SUMMARY:Nousuvesi Jam Night @ Espoo
DESCRIPTION:**Nousuvesi Jam Night @ Espoo** \n📍 Nousuvesi\, Merenkäynti 3\, 02320 Espoo\n🗓 Every Sunday | 19:00–23:00\n💸 Free entry \nExperience Nousuvesi Jam Night in Espoo — an open jam evening welcoming musicians\, singers\, and music lovers. Free entry\, live music\, and relaxed vibes. \nStep into the unique Nousuvesi stage in Espoo — a friendly spot where the stage opens every Sunday for live jams and creative energy. \n**What to expect:**\n🎤 Open stage for singers and musicians\n🎸 Live jams with a mix of local players\n🍻 Drinks and light refreshments available\n✨ Friendly\, creative atmosphere \nCome to share your song\, join the jam\, or just enjoy the energy in the audience. \n#OpenMicFinland #Espoo #MusicJam \nℹ️ Open Mic Finland is an independent information hub and does not organise this event.Follow Open Mic Finland to explore more open mics\, jams\, and creative stages across Finland. \n➡ Follow updates: Open Mic Finland Facebook
URL:https://www.openmicfinland.fi/event/high-tide-sunday-jam-6/2026-05-10/
LOCATION:Pub Nousuvesi\, Merenkäynti 3\, Espoo\, 02320\, Finland
CATEGORIES:Music Jams
END:VEVENT
BEGIN:VEVENT
DTSTART;TZID=Europe/Helsinki:20260515T190000
DTEND;TZID=Europe/Helsinki:20260515T220000
DTSTAMP:20260419T193246
CREATED:20250829T154036Z
LAST-MODIFIED:20260115T225809Z
UID:10003614-1778871600-1778882400@www.openmicfinland.fi
SUMMARY:Bestis Jazz Jam @ Espoo
DESCRIPTION:🎶 Monthly Jazz Jam @ Bestis Karaoke & Nightlife\n📍 Yläkartanontie 28\, 02360 Espoo\n🗓 Once a month · 19:00–22:00\n🎟 Free entry (cloakroom fee may apply)\n\nStep into a cozy jazz lounge atmosphere — soulful melodies\, smooth standards\, and open improvisation in a unique karaoke nightclub setting. \n\n🎷 Jam with us! Whether you’re a musician\, singer or music lover\, there’s room for everyone.\n🎹 Keyboard is available on site – bring your own instrument if needed.\n🍸 Enjoy great drinks and warm community vibes.\nℹ️ Open Mic Finland is an independent information hub and does not organise this event.Follow Open Mic Finland to explore more open mics\, jams\, and creative stages across Finland.➡ Follow updates: Open Mic Finland Facebook
URL:https://www.openmicfinland.fi/event/jazz-jam-bestis-karaoke-nightlife/2026-05-15/
LOCATION:Bestis Karaoke & Nightlife\, Yläkartanontie 28\, 02360 Espoo\, Espoo\, 02360\, Finland
CATEGORIES:Music Jams
END:VEVENT
BEGIN:VEVENT
DTSTART;TZID=Europe/Helsinki:20260517T190000
DTEND;TZID=Europe/Helsinki:20260517T230000
DTSTAMP:20260419T193246
CREATED:20250829T022952Z
LAST-MODIFIED:20250929T200334Z
UID:10001933-1779044400-1779058800@www.openmicfinland.fi
SUMMARY:Nousuvesi Jam Night @ Espoo
DESCRIPTION:**Nousuvesi Jam Night @ Espoo** \n📍 Nousuvesi\, Merenkäynti 3\, 02320 Espoo\n🗓 Every Sunday | 19:00–23:00\n💸 Free entry \nExperience Nousuvesi Jam Night in Espoo — an open jam evening welcoming musicians\, singers\, and music lovers. Free entry\, live music\, and relaxed vibes. \nStep into the unique Nousuvesi stage in Espoo — a friendly spot where the stage opens every Sunday for live jams and creative energy. \n**What to expect:**\n🎤 Open stage for singers and musicians\n🎸 Live jams with a mix of local players\n🍻 Drinks and light refreshments available\n✨ Friendly\, creative atmosphere \nCome to share your song\, join the jam\, or just enjoy the energy in the audience. \n#OpenMicFinland #Espoo #MusicJam \nℹ️ Open Mic Finland is an independent information hub and does not organise this event.Follow Open Mic Finland to explore more open mics\, jams\, and creative stages across Finland. \n➡ Follow updates: Open Mic Finland Facebook
URL:https://www.openmicfinland.fi/event/high-tide-sunday-jam-6/2026-05-17/
LOCATION:Pub Nousuvesi\, Merenkäynti 3\, Espoo\, 02320\, Finland
CATEGORIES:Music Jams
END:VEVENT
BEGIN:VEVENT
DTSTART;TZID=Europe/Helsinki:20260524T190000
DTEND;TZID=Europe/Helsinki:20260524T230000
DTSTAMP:20260419T193246
CREATED:20250829T022952Z
LAST-MODIFIED:20250929T200334Z
UID:10001934-1779649200-1779663600@www.openmicfinland.fi
SUMMARY:Nousuvesi Jam Night @ Espoo
DESCRIPTION:**Nousuvesi Jam Night @ Espoo** \n📍 Nousuvesi\, Merenkäynti 3\, 02320 Espoo\n🗓 Every Sunday | 19:00–23:00\n💸 Free entry \nExperience Nousuvesi Jam Night in Espoo — an open jam evening welcoming musicians\, singers\, and music lovers. Free entry\, live music\, and relaxed vibes. \nStep into the unique Nousuvesi stage in Espoo — a friendly spot where the stage opens every Sunday for live jams and creative energy. \n**What to expect:**\n🎤 Open stage for singers and musicians\n🎸 Live jams with a mix of local players\n🍻 Drinks and light refreshments available\n✨ Friendly\, creative atmosphere \nCome to share your song\, join the jam\, or just enjoy the energy in the audience. \n#OpenMicFinland #Espoo #MusicJam \nℹ️ Open Mic Finland is an independent information hub and does not organise this event.Follow Open Mic Finland to explore more open mics\, jams\, and creative stages across Finland. \n➡ Follow updates: Open Mic Finland Facebook
URL:https://www.openmicfinland.fi/event/high-tide-sunday-jam-6/2026-05-24/
LOCATION:Pub Nousuvesi\, Merenkäynti 3\, Espoo\, 02320\, Finland
CATEGORIES:Music Jams
END:VEVENT
BEGIN:VEVENT
DTSTART;TZID=Europe/Helsinki:20260531T190000
DTEND;TZID=Europe/Helsinki:20260531T230000
DTSTAMP:20260419T193246
CREATED:20250829T022952Z
LAST-MODIFIED:20250929T200334Z
UID:10001935-1780254000-1780268400@www.openmicfinland.fi
SUMMARY:Nousuvesi Jam Night @ Espoo
DESCRIPTION:**Nousuvesi Jam Night @ Espoo** \n📍 Nousuvesi\, Merenkäynti 3\, 02320 Espoo\n🗓 Every Sunday | 19:00–23:00\n💸 Free entry \nExperience Nousuvesi Jam Night in Espoo — an open jam evening welcoming musicians\, singers\, and music lovers. Free entry\, live music\, and relaxed vibes. \nStep into the unique Nousuvesi stage in Espoo — a friendly spot where the stage opens every Sunday for live jams and creative energy. \n**What to expect:**\n🎤 Open stage for singers and musicians\n🎸 Live jams with a mix of local players\n🍻 Drinks and light refreshments available\n✨ Friendly\, creative atmosphere \nCome to share your song\, join the jam\, or just enjoy the energy in the audience. \n#OpenMicFinland #Espoo #MusicJam \nℹ️ Open Mic Finland is an independent information hub and does not organise this event.Follow Open Mic Finland to explore more open mics\, jams\, and creative stages across Finland. \n➡ Follow updates: Open Mic Finland Facebook
URL:https://www.openmicfinland.fi/event/high-tide-sunday-jam-6/2026-05-31/
LOCATION:Pub Nousuvesi\, Merenkäynti 3\, Espoo\, 02320\, Finland
CATEGORIES:Music Jams
END:VEVENT
END:VCALENDAR