BEGIN:VCALENDAR
VERSION:2.0
PRODID:-//OpenmicFinland.fi - ECPv6.15.20//NONSGML v1.0//EN
CALSCALE:GREGORIAN
METHOD:PUBLISH
X-WR-CALNAME:OpenmicFinland.fi
X-ORIGINAL-URL:https://www.openmicfinland.fi
X-WR-CALDESC:Events for OpenmicFinland.fi
REFRESH-INTERVAL;VALUE=DURATION:PT1H
X-Robots-Tag:noindex
X-PUBLISHED-TTL:PT1H
BEGIN:VTIMEZONE
TZID:Europe/Helsinki
BEGIN:DAYLIGHT
TZOFFSETFROM:+0200
TZOFFSETTO:+0300
TZNAME:EEST
DTSTART:20250330T010000
END:DAYLIGHT
BEGIN:STANDARD
TZOFFSETFROM:+0300
TZOFFSETTO:+0200
TZNAME:EET
DTSTART:20251026T010000
END:STANDARD
BEGIN:DAYLIGHT
TZOFFSETFROM:+0200
TZOFFSETTO:+0300
TZNAME:EEST
DTSTART:20260329T010000
END:DAYLIGHT
BEGIN:STANDARD
TZOFFSETFROM:+0300
TZOFFSETTO:+0200
TZNAME:EET
DTSTART:20261025T010000
END:STANDARD
BEGIN:DAYLIGHT
TZOFFSETFROM:+0200
TZOFFSETTO:+0300
TZNAME:EEST
DTSTART:20270328T010000
END:DAYLIGHT
BEGIN:STANDARD
TZOFFSETFROM:+0300
TZOFFSETTO:+0200
TZNAME:EET
DTSTART:20271031T010000
END:STANDARD
END:VTIMEZONE
BEGIN:VEVENT
DTSTART;TZID=Europe/Helsinki:20260403T190000
DTEND;TZID=Europe/Helsinki:20260403T235900
DTSTAMP:20260423T231556
CREATED:20251103T171805Z
LAST-MODIFIED:20260310T220059Z
UID:10003137-1775242800-1775260740@www.openmicfinland.fi
SUMMARY:Q:n OpenStage Jam @ Kouvola
DESCRIPTION:📍Address: Bar Q\, Kouvolankatu 30\, 45100 Kouvola\n🗓️ When: 03.04.2026 \, 19:00 → late\n🎙️ Format: Open stage jam – jump in to play or sing; audience welcome to just enjoy\n🎸 Backline: Basic gear available on stage (bring your own instrument if you like)\n🌟 Vibe: Relaxed\, supportive\, spontaneous\n🎟️ Entry: Free\n\nBring your instrument or your voice and join the groove — welcome! \n#openmicfinland #Kouvola #Musicjam #livemusic #jamsession #jamit \n\nℹ️ Open Mic Finland is an independent information hub and does not organise this event.Follow Open Mic Finland to explore more open mics\, jams\, and creative stages across Finland. \n➡ Follow updates: Open Mic Finland Facebook
URL:https://www.openmicfinland.fi/event/qn-openstage-jam-kouvola/
LOCATION:Bar Q\, Kouvolankatu 30\, Kouvola\, 45100\, Finland
CATEGORIES:Music Jams
END:VEVENT
END:VCALENDAR