BEGIN:VCALENDAR
VERSION:2.0
PRODID:-//OpenmicFinland.fi - ECPv6.15.20//NONSGML v1.0//EN
CALSCALE:GREGORIAN
METHOD:PUBLISH
X-ORIGINAL-URL:https://www.openmicfinland.fi
X-WR-CALDESC:Events for OpenmicFinland.fi
REFRESH-INTERVAL;VALUE=DURATION:PT1H
X-Robots-Tag:noindex
X-PUBLISHED-TTL:PT1H
BEGIN:VTIMEZONE
TZID:Europe/Helsinki
BEGIN:DAYLIGHT
TZOFFSETFROM:+0200
TZOFFSETTO:+0300
TZNAME:EEST
DTSTART:20240331T010000
END:DAYLIGHT
BEGIN:STANDARD
TZOFFSETFROM:+0300
TZOFFSETTO:+0200
TZNAME:EET
DTSTART:20241027T010000
END:STANDARD
BEGIN:DAYLIGHT
TZOFFSETFROM:+0200
TZOFFSETTO:+0300
TZNAME:EEST
DTSTART:20250330T010000
END:DAYLIGHT
BEGIN:STANDARD
TZOFFSETFROM:+0300
TZOFFSETTO:+0200
TZNAME:EET
DTSTART:20251026T010000
END:STANDARD
BEGIN:DAYLIGHT
TZOFFSETFROM:+0200
TZOFFSETTO:+0300
TZNAME:EEST
DTSTART:20260329T010000
END:DAYLIGHT
BEGIN:STANDARD
TZOFFSETFROM:+0300
TZOFFSETTO:+0200
TZNAME:EET
DTSTART:20261025T010000
END:STANDARD
END:VTIMEZONE
BEGIN:VEVENT
DTSTART;TZID=Europe/Helsinki:20251002T180000
DTEND;TZID=Europe/Helsinki:20251002T210000
DTSTAMP:20260421T165335
CREATED:20250925T184618Z
LAST-MODIFIED:20250929T145736Z
UID:10002425-1759428000-1759438800@www.openmicfinland.fi
SUMMARY:Irish Music Session @ Järvenpää
DESCRIPTION:⏰ Time: Every first Thursday of the month\, 18:00–21:00\n📍 Where: Pub Arturi\, Mannilantie 37\, 04400 Järvenpää\n🎶 Format: Traditional Irish music session — join in with your instrument or voice\, or simply enjoy the tunes\n💸 Cost: Free entry\n\nCome along to play\, sing\, or just listen. Irish folk tunes\, good company\, and a warm atmosphere are guaranteed in Jäksä’s cozy pub setting. All levels and instruments welcome. \n#openmicfinland #Järvenpää #livemusic #JamSession #Jamit \nℹ️ Open Mic Finland is an independent information hub and does not organise this event. \n➡ Follow updates: Open Mic Finland Facebook
URL:https://www.openmicfinland.fi/event/irish-music-session-jarvenpaa/
LOCATION:Pub Arturi\, MMannilantie 37\, 04400 Järvenpää\, Järvenpää\, 04400\, Finland
CATEGORIES:Music Jams
END:VEVENT
END:VCALENDAR