BEGIN:VCALENDAR
VERSION:2.0
PRODID:-//OpenmicFinland.fi - ECPv6.15.20//NONSGML v1.0//EN
CALSCALE:GREGORIAN
METHOD:PUBLISH
X-ORIGINAL-URL:https://www.openmicfinland.fi
X-WR-CALDESC:Events for OpenmicFinland.fi
REFRESH-INTERVAL;VALUE=DURATION:PT1H
X-Robots-Tag:noindex
X-PUBLISHED-TTL:PT1H
BEGIN:VTIMEZONE
TZID:Europe/Helsinki
BEGIN:DAYLIGHT
TZOFFSETFROM:+0200
TZOFFSETTO:+0300
TZNAME:EEST
DTSTART:20240331T010000
END:DAYLIGHT
BEGIN:STANDARD
TZOFFSETFROM:+0300
TZOFFSETTO:+0200
TZNAME:EET
DTSTART:20241027T010000
END:STANDARD
BEGIN:DAYLIGHT
TZOFFSETFROM:+0200
TZOFFSETTO:+0300
TZNAME:EEST
DTSTART:20250330T010000
END:DAYLIGHT
BEGIN:STANDARD
TZOFFSETFROM:+0300
TZOFFSETTO:+0200
TZNAME:EET
DTSTART:20251026T010000
END:STANDARD
BEGIN:DAYLIGHT
TZOFFSETFROM:+0200
TZOFFSETTO:+0300
TZNAME:EEST
DTSTART:20260329T010000
END:DAYLIGHT
BEGIN:STANDARD
TZOFFSETFROM:+0300
TZOFFSETTO:+0200
TZNAME:EET
DTSTART:20261025T010000
END:STANDARD
END:VTIMEZONE
BEGIN:VEVENT
DTSTART;TZID=Europe/Helsinki:20251211T190000
DTEND;TZID=Europe/Helsinki:20251211T230000
DTSTAMP:20260421T135806
CREATED:20250830T165219Z
LAST-MODIFIED:20260206T210201Z
UID:10000057-1765479600-1765494000@www.openmicfinland.fi
SUMMARY:LiveLava & Jamit @ Järvenpää
DESCRIPTION:📍 Where: Eikan Pub\, Helsingintie 5\, 04400 Järvenpää\n🗓️ When: 19.02.2026\, at 19:00-22:00\n🎸 House band: Rhythm Breakers\n🎟️ Entry: Free \nA vibrant Thursday night of live music and open jams!\nRhythm Breakers kicks things off with their bluesy groove before the stage opens to everyone. Bring your instrument\, your voice\, or just your curiosity — every jam here has its own special magic. 🌙🎵 \n#OpenMicFinland #Järvenpää #blues #country  #livemusic #Jamit \nℹ️ Open Mic Finland is an independent information hub and does not organise this event.Follow Open Mic Finland to explore more open mics\, jams\, and creative stages across Finland. \n➡ Follow updates: Open Mic Finland Facebook
URL:https://www.openmicfinland.fi/event/livelava-jamit-eikan-pub/
LOCATION:Erikan Pub\, Venny Soldanin raitti 6\, Järvenpää\, 04400\, Finland
CATEGORIES:Music Jams
END:VEVENT
END:VCALENDAR