BEGIN:VCALENDAR
VERSION:2.0
PRODID:-//OpenmicFinland.fi - ECPv6.15.20//NONSGML v1.0//EN
CALSCALE:GREGORIAN
METHOD:PUBLISH
X-WR-CALNAME:OpenmicFinland.fi
X-ORIGINAL-URL:https://www.openmicfinland.fi
X-WR-CALDESC:Events for OpenmicFinland.fi
REFRESH-INTERVAL;VALUE=DURATION:PT1H
X-Robots-Tag:noindex
X-PUBLISHED-TTL:PT1H
BEGIN:VTIMEZONE
TZID:Europe/Helsinki
BEGIN:DAYLIGHT
TZOFFSETFROM:+0200
TZOFFSETTO:+0300
TZNAME:EEST
DTSTART:20250330T010000
END:DAYLIGHT
BEGIN:STANDARD
TZOFFSETFROM:+0300
TZOFFSETTO:+0200
TZNAME:EET
DTSTART:20251026T010000
END:STANDARD
BEGIN:DAYLIGHT
TZOFFSETFROM:+0200
TZOFFSETTO:+0300
TZNAME:EEST
DTSTART:20260329T010000
END:DAYLIGHT
BEGIN:STANDARD
TZOFFSETFROM:+0300
TZOFFSETTO:+0200
TZNAME:EET
DTSTART:20261025T010000
END:STANDARD
BEGIN:DAYLIGHT
TZOFFSETFROM:+0200
TZOFFSETTO:+0300
TZNAME:EEST
DTSTART:20270328T010000
END:DAYLIGHT
BEGIN:STANDARD
TZOFFSETFROM:+0300
TZOFFSETTO:+0200
TZNAME:EET
DTSTART:20271031T010000
END:STANDARD
END:VTIMEZONE
BEGIN:VEVENT
DTSTART;TZID=Europe/Helsinki:20260326T190000
DTEND;TZID=Europe/Helsinki:20260326T230000
DTSTAMP:20260421T111150
CREATED:20260310T211238Z
LAST-MODIFIED:20260310T211238Z
UID:10004388-1774551600-1774566000@www.openmicfinland.fi
SUMMARY:LiveLava & Jamit @ Järvenpää
DESCRIPTION:📍 Where: Eikan Pub\, Helsingintie 5\, 04400 Järvenpää\n🗓️ When: 26.03.2026\, at 19:00-22:00\n🎸 House band: Tres Hombres\n🎟️ Entry: Free \nA vibrant Thursday night of live music and open jams!\nTres Hombres  kicks things off with their charm before the stage opens to everyone. Bring your instrument\, your voice\, or just your curiosity — every jam here has its own special magic. 🌙🎵 \n#OpenMicFinland #Järvenpää #openstage #livemusic #Jamit #musicjams \nℹ️ Open Mic Finland is an independent information hub and does not organise this event.Follow Open Mic Finland to explore more open mics\, jams\, and creative stages across Finland. \n➡ Follow updates: Open Mic Finland Facebook
URL:https://www.openmicfinland.fi/event/livelava-jamit-jarvenpaa-2/
LOCATION:Erikan Pub\, Venny Soldanin raitti 6\, Järvenpää\, 04400\, Finland
CATEGORIES:Music Jams
END:VEVENT
END:VCALENDAR