BEGIN:VCALENDAR
VERSION:2.0
PRODID:-//OpenmicFinland.fi - ECPv6.15.20//NONSGML v1.0//EN
CALSCALE:GREGORIAN
METHOD:PUBLISH
X-ORIGINAL-URL:https://www.openmicfinland.fi
X-WR-CALDESC:Events for OpenmicFinland.fi
REFRESH-INTERVAL;VALUE=DURATION:PT1H
X-Robots-Tag:noindex
X-PUBLISHED-TTL:PT1H
BEGIN:VTIMEZONE
TZID:Europe/Helsinki
BEGIN:DAYLIGHT
TZOFFSETFROM:+0200
TZOFFSETTO:+0300
TZNAME:EEST
DTSTART:20250330T010000
END:DAYLIGHT
BEGIN:STANDARD
TZOFFSETFROM:+0300
TZOFFSETTO:+0200
TZNAME:EET
DTSTART:20251026T010000
END:STANDARD
BEGIN:DAYLIGHT
TZOFFSETFROM:+0200
TZOFFSETTO:+0300
TZNAME:EEST
DTSTART:20260329T010000
END:DAYLIGHT
BEGIN:STANDARD
TZOFFSETFROM:+0300
TZOFFSETTO:+0200
TZNAME:EET
DTSTART:20261025T010000
END:STANDARD
BEGIN:DAYLIGHT
TZOFFSETFROM:+0200
TZOFFSETTO:+0300
TZNAME:EEST
DTSTART:20270328T010000
END:DAYLIGHT
BEGIN:STANDARD
TZOFFSETFROM:+0300
TZOFFSETTO:+0200
TZNAME:EET
DTSTART:20271031T010000
END:STANDARD
END:VTIMEZONE
BEGIN:VEVENT
DTSTART;TZID=Europe/Helsinki:20260414T190000
DTEND;TZID=Europe/Helsinki:20260414T223000
DTSTAMP:20260420T001117
CREATED:20260413T193925Z
LAST-MODIFIED:20260413T193925Z
UID:10004422-1776193200-1776205800@www.openmicfinland.fi
SUMMARY:Jazz + Jam Session @ Tampere
DESCRIPTION:Pauli Lyytinen & Markku Ounaskari + Jam Session\n📍 Kulttuuritalo Telakka / Eclipse Jazz Club\, Tullikamarin aukio 3\, 33100 Tampere\, Finland\n🗓 (Date TBC)\n⏰ 7:00 PM – 10:30 PM\n🎤 Concert + open jam session\n🎶 Style: Jazz / improvisation\n🎛 Backline: Not specified\n💶 Admission: €16.50 \nWhat to expect\nAn inspiring evening of live jazz featuring a duo performance by acclaimed Finnish musicians Pauli Lyytinen (saxophone) and Markku Ounaskari (drums). \nAfter the concert\, the stage opens for a jam session\, inviting musicians to join in and continue the night through improvisation and collaboration. \nSchedule:\n– Doors: 7:00 PM\n– Concert: 8:00 PM\n– Jam Session: approx. 9:00 PM \nTickets are available via Tiketti and possibly at the door if not sold out. \nhttps://facebook.com/events/s/pauli-lyytinen-markku-ounaskar/2372747846512591/ \nOrganizer\nEclipse Jazz Club (in collaboration with TamJazz ry)
URL:https://www.openmicfinland.fi/event/jazz-jam-session-tampere/
LOCATION:Eclipse Jazz Club\, Tullikamarin aukio 3\, Tampere\, Finland
CATEGORIES:Music Jams
END:VEVENT
END:VCALENDAR