BEGIN:VCALENDAR
VERSION:2.0
PRODID:-//OpenmicFinland.fi - ECPv6.15.20//NONSGML v1.0//EN
CALSCALE:GREGORIAN
METHOD:PUBLISH
X-WR-CALNAME:OpenmicFinland.fi
X-ORIGINAL-URL:https://www.openmicfinland.fi
X-WR-CALDESC:Events for OpenmicFinland.fi
REFRESH-INTERVAL;VALUE=DURATION:PT1H
X-Robots-Tag:noindex
X-PUBLISHED-TTL:PT1H
BEGIN:VTIMEZONE
TZID:Europe/Helsinki
BEGIN:DAYLIGHT
TZOFFSETFROM:+0200
TZOFFSETTO:+0300
TZNAME:EEST
DTSTART:20240331T010000
END:DAYLIGHT
BEGIN:STANDARD
TZOFFSETFROM:+0300
TZOFFSETTO:+0200
TZNAME:EET
DTSTART:20241027T010000
END:STANDARD
BEGIN:DAYLIGHT
TZOFFSETFROM:+0200
TZOFFSETTO:+0300
TZNAME:EEST
DTSTART:20250330T010000
END:DAYLIGHT
BEGIN:STANDARD
TZOFFSETFROM:+0300
TZOFFSETTO:+0200
TZNAME:EET
DTSTART:20251026T010000
END:STANDARD
BEGIN:DAYLIGHT
TZOFFSETFROM:+0200
TZOFFSETTO:+0300
TZNAME:EEST
DTSTART:20260329T010000
END:DAYLIGHT
BEGIN:STANDARD
TZOFFSETFROM:+0300
TZOFFSETTO:+0200
TZNAME:EET
DTSTART:20261025T010000
END:STANDARD
END:VTIMEZONE
BEGIN:VEVENT
DTSTART;TZID=Europe/Helsinki:20251225T210000
DTEND;TZID=Europe/Helsinki:20251225T235900
DTSTAMP:20260420T075947
CREATED:20251222T110906Z
LAST-MODIFIED:20251222T110906Z
UID:10003350-1766696400-1766707140@www.openmicfinland.fi
SUMMARY:Christmas Jam Kaiku @ Nilsiä
DESCRIPTION:📍 Bar Kaiku\, Nilsiäntie 71\, 73300 Nilsiä (Kuopio)\, Finland \n📅 Thursday\, December 25\, 2025 | from 21:00\n🎶 Jam session \nTraditional Christmas Day Jam Session at Bar Kaiku 🎄\nA long-standing local tradition where the stage is taken over by a mixed group of musicians with roots in Nilsiä — \nℹ️ Open Mic Finland is an independent information hub and does not organise this event. \nFollow Open Mic Finland to explore more open mics\, jams\, and creative stages across Finland. \n➡ Follow updates: Open Mic Finland Facebook
URL:https://www.openmicfinland.fi/event/christmas-jam-kaiku-nilsia/
LOCATION:Bar Kaiku\, Nilsiäntie 71\, 73300 Nilsiä\, Nilsiä\, Kuopio\, 73300\, Finland
END:VEVENT
END:VCALENDAR