BEGIN:VCALENDAR
VERSION:2.0
PRODID:-//OpenmicFinland.fi - ECPv6.15.20//NONSGML v1.0//EN
CALSCALE:GREGORIAN
METHOD:PUBLISH
X-WR-CALNAME:OpenmicFinland.fi
X-ORIGINAL-URL:https://www.openmicfinland.fi
X-WR-CALDESC:Events for OpenmicFinland.fi
REFRESH-INTERVAL;VALUE=DURATION:PT1H
X-Robots-Tag:noindex
X-PUBLISHED-TTL:PT1H
BEGIN:VTIMEZONE
TZID:Europe/Helsinki
BEGIN:DAYLIGHT
TZOFFSETFROM:+0200
TZOFFSETTO:+0300
TZNAME:EEST
DTSTART:20250330T010000
END:DAYLIGHT
BEGIN:STANDARD
TZOFFSETFROM:+0300
TZOFFSETTO:+0200
TZNAME:EET
DTSTART:20251026T010000
END:STANDARD
BEGIN:DAYLIGHT
TZOFFSETFROM:+0200
TZOFFSETTO:+0300
TZNAME:EEST
DTSTART:20260329T010000
END:DAYLIGHT
BEGIN:STANDARD
TZOFFSETFROM:+0300
TZOFFSETTO:+0200
TZNAME:EET
DTSTART:20261025T010000
END:STANDARD
BEGIN:DAYLIGHT
TZOFFSETFROM:+0200
TZOFFSETTO:+0300
TZNAME:EEST
DTSTART:20270328T010000
END:DAYLIGHT
BEGIN:STANDARD
TZOFFSETFROM:+0300
TZOFFSETTO:+0200
TZNAME:EET
DTSTART:20271031T010000
END:STANDARD
END:VTIMEZONE
BEGIN:VEVENT
DTSTART;TZID=Europe/Helsinki:20260527T190000
DTEND;TZID=Europe/Helsinki:20260527T223000
DTSTAMP:20260420T003052
CREATED:20250829T093304Z
LAST-MODIFIED:20260112T204742Z
UID:10003609-1779908400-1779921000@www.openmicfinland.fi
SUMMARY:Munkkivuori Jam Night @ Helsinki
DESCRIPTION:  \nMonthly Jam Night @ Hemingway Munkkivuori — a laid-back evening where music\, laughter and improvisation flow freely. \n\n🕒 When: Once a month\, 19:00–22:30. (Check the calendar for the exact date.)\n📍 Where: Hemingway Munkkivuori\, Raumantie 1\, 00350 Helsinki\, Finland.\n🎤 Format: Sign up on arrival; players rotate through relaxed standards and impro jams.\n🎸 Instruments: Backline available; you can also bring your own instrument.\n✨ Vibe: Easygoing and supportive — full of fun\, laughter and spontaneity.\n💸 Cost: Free entry.\n\nGrab a drink\, jump in for a tune or two\, or just enjoy the vibe at Hemingway’s monthly jam! 🎶 \nℹ️ Open Mic Finland is an independent information hub and does not organise this event.Follow Open Mic Finland to explore more open mics\, jams\, and creative stages across Finland. \n  \n➡ Follow updates: Open Mic Finland Facebook
URL:https://www.openmicfinland.fi/event/hemingway-munkkivuori-jam-night/2026-05-27/
LOCATION:Hemingway’s\, Raumantie 1\, 00350 Helsinki\, Helsinki\, 00350\, Finland
CATEGORIES:Music Jams
END:VEVENT
END:VCALENDAR