BEGIN:VCALENDAR
VERSION:2.0
PRODID:-//OpenmicFinland.fi - ECPv6.15.20//NONSGML v1.0//EN
CALSCALE:GREGORIAN
METHOD:PUBLISH
X-WR-CALNAME:OpenmicFinland.fi
X-ORIGINAL-URL:https://www.openmicfinland.fi
X-WR-CALDESC:Events for OpenmicFinland.fi
REFRESH-INTERVAL;VALUE=DURATION:PT1H
X-Robots-Tag:noindex
X-PUBLISHED-TTL:PT1H
BEGIN:VTIMEZONE
TZID:Europe/Helsinki
BEGIN:DAYLIGHT
TZOFFSETFROM:+0200
TZOFFSETTO:+0300
TZNAME:EEST
DTSTART:20250330T010000
END:DAYLIGHT
BEGIN:STANDARD
TZOFFSETFROM:+0300
TZOFFSETTO:+0200
TZNAME:EET
DTSTART:20251026T010000
END:STANDARD
BEGIN:DAYLIGHT
TZOFFSETFROM:+0200
TZOFFSETTO:+0300
TZNAME:EEST
DTSTART:20260329T010000
END:DAYLIGHT
BEGIN:STANDARD
TZOFFSETFROM:+0300
TZOFFSETTO:+0200
TZNAME:EET
DTSTART:20261025T010000
END:STANDARD
BEGIN:DAYLIGHT
TZOFFSETFROM:+0200
TZOFFSETTO:+0300
TZNAME:EEST
DTSTART:20270328T010000
END:DAYLIGHT
BEGIN:STANDARD
TZOFFSETFROM:+0300
TZOFFSETTO:+0200
TZNAME:EET
DTSTART:20271031T010000
END:STANDARD
END:VTIMEZONE
BEGIN:VEVENT
DTSTART;TZID=Europe/Helsinki:20260603T190000
DTEND;TZID=Europe/Helsinki:20260603T213000
DTSTAMP:20260419T210817
CREATED:20260107T030936Z
LAST-MODIFIED:20260225T222925Z
UID:10004101-1780513200-1780522200@www.openmicfinland.fi
SUMMARY:Opus Jam Night @ Lohja
DESCRIPTION:📍 Opus K\, Kauppakatu 6\, 08100 Lohja\n🗓️ First Wednesday monthly | 19:00–21:30\n💸 Free entry \nExperience Opus Jam Night in Lohja — a friendly\, low-pressure open jam for singers and musicians with relaxed vibes. \n**What to expect:**\n🎤 Open stage for singers & musicians\n🎸 House backline (PA; bring your own instrument if you like)\n🍻 Drinks available at the bar\n🤝 Welcoming\, casual atmosphere \n#OpenMicFinland #Lohja #MusicJam #jamit #livemusic \nℹ️ Open Mic Finland is an independent info hub — we simply gather and share details so everyone can discover inspiring stages across Finland. \n➡ Follow updates: Open Mic Finland Facebook
URL:https://www.openmicfinland.fi/event/opus-jam-night-lohja-2/2026-06-03/
LOCATION:Opus K\, Opus Kauppakatu 6\, Lohja\, 08100\, Finland
CATEGORIES:Music Jams
END:VEVENT
BEGIN:VEVENT
DTSTART;TZID=Europe/Helsinki:20260609T190000
DTEND;TZID=Europe/Helsinki:20260609T230000
DTSTAMP:20260419T210817
CREATED:20260406T220031Z
LAST-MODIFIED:20260406T220031Z
UID:10004403-1781031600-1781046000@www.openmicfinland.fi
SUMMARY:Open Stage Pub Waski @ Vantaa
DESCRIPTION:📍 Pub Waski\, Kinorinne 1\, 01600 Vantaa\n📅 · from 19:00\n🎤 Open stage \nPub Waski launches a new open stage night\, welcoming music lovers of all levels.\nThe stage is open to anyone who wants to perform or simply enjoy live music in a relaxed pub atmosphere. \nThe evening is hosted by the house band trio\, bringing a rock-spirited energy and supporting performers throughout the night. \nWhat to expect:\n\n🎸 Open stage for all skill levels\n🥁 House band support\n🤝 Friendly\, inclusive atmosphere\n🎶 Audience welcome\n\nℹ️ Open Mic Finland is an independent information hub and does not organise this event.Follow Open Mic Finland to explore more open mics\, jams\, and creative stages across Finland. \n➡ Follow updates: Open Mic Finland Facebook \n.
URL:https://www.openmicfinland.fi/event/open-stage-pub-waski-vantaa-2/2026-06-09/
LOCATION:Pub Waski\, Kinorinne 1\, Vantaa\, 01600\, Finland
CATEGORIES:Music Jams
END:VEVENT
BEGIN:VEVENT
DTSTART;TZID=Europe/Helsinki:20260613T170000
DTEND;TZID=Europe/Helsinki:20260613T200000
DTSTAMP:20260419T210817
CREATED:20260403T213843Z
LAST-MODIFIED:20260403T213843Z
UID:10003485-1781370000-1781380800@www.openmicfinland.fi
SUMMARY:Clarion Jazz Jams @ Helsinki
DESCRIPTION:📍 Clarion Hotel Helsinki\, Tyynenmerenkatu 2\, 00220 Helsinki\n🗓 Saturday\n⏰ 5:00 PM – 8:00 PM\n🎶 Jazz / Live jazz session\n🎟 Free entry \nWhat to expect\nClarion Living Room Jazz invites you to enjoy live jazz in a relaxed and elegant setting by the sea.\nThe atmosphere is warm and welcoming\, perfect for unwinding with quality music and good company.\nSit back\, listen\, and let the evening flow with smooth jazz vibes. \n#openmicfinland #Helsinki #jamit #musicjams \nℹ️ Open Mic Finland is an independent information hub and does not organise this event.Follow Open Mic Finland to explore more open mics\, jams\, and creative stages across Finland.
URL:https://www.openmicfinland.fi/event/clarion-jazz-jams-helsinki-2/2026-06-13/
LOCATION:Clarion Hotel Helsinki\, Tyynenmerenkatu 2\, Helsinki\, 00220\, Finland
CATEGORIES:Music Jams
END:VEVENT
BEGIN:VEVENT
DTSTART;TZID=Europe/Helsinki:20260623T190000
DTEND;TZID=Europe/Helsinki:20260623T230000
DTSTAMP:20260419T210817
CREATED:20260406T220031Z
LAST-MODIFIED:20260406T220031Z
UID:10004404-1782241200-1782255600@www.openmicfinland.fi
SUMMARY:Open Stage Pub Waski @ Vantaa
DESCRIPTION:📍 Pub Waski\, Kinorinne 1\, 01600 Vantaa\n📅 · from 19:00\n🎤 Open stage \nPub Waski launches a new open stage night\, welcoming music lovers of all levels.\nThe stage is open to anyone who wants to perform or simply enjoy live music in a relaxed pub atmosphere. \nThe evening is hosted by the house band trio\, bringing a rock-spirited energy and supporting performers throughout the night. \nWhat to expect:\n\n🎸 Open stage for all skill levels\n🥁 House band support\n🤝 Friendly\, inclusive atmosphere\n🎶 Audience welcome\n\nℹ️ Open Mic Finland is an independent information hub and does not organise this event.Follow Open Mic Finland to explore more open mics\, jams\, and creative stages across Finland. \n➡ Follow updates: Open Mic Finland Facebook \n.
URL:https://www.openmicfinland.fi/event/open-stage-pub-waski-vantaa-2/2026-06-23/
LOCATION:Pub Waski\, Kinorinne 1\, Vantaa\, 01600\, Finland
CATEGORIES:Music Jams
END:VEVENT
END:VCALENDAR