BEGIN:VCALENDAR
VERSION:2.0
PRODID:-//OpenmicFinland.fi - ECPv6.15.20//NONSGML v1.0//EN
CALSCALE:GREGORIAN
METHOD:PUBLISH
X-WR-CALNAME:OpenmicFinland.fi
X-ORIGINAL-URL:https://www.openmicfinland.fi
X-WR-CALDESC:Events for OpenmicFinland.fi
REFRESH-INTERVAL;VALUE=DURATION:PT1H
X-Robots-Tag:noindex
X-PUBLISHED-TTL:PT1H
BEGIN:VTIMEZONE
TZID:Europe/Helsinki
BEGIN:DAYLIGHT
TZOFFSETFROM:+0200
TZOFFSETTO:+0300
TZNAME:EEST
DTSTART:20250330T010000
END:DAYLIGHT
BEGIN:STANDARD
TZOFFSETFROM:+0300
TZOFFSETTO:+0200
TZNAME:EET
DTSTART:20251026T010000
END:STANDARD
BEGIN:DAYLIGHT
TZOFFSETFROM:+0200
TZOFFSETTO:+0300
TZNAME:EEST
DTSTART:20260329T010000
END:DAYLIGHT
BEGIN:STANDARD
TZOFFSETFROM:+0300
TZOFFSETTO:+0200
TZNAME:EET
DTSTART:20261025T010000
END:STANDARD
BEGIN:DAYLIGHT
TZOFFSETFROM:+0200
TZOFFSETTO:+0300
TZNAME:EEST
DTSTART:20270328T010000
END:DAYLIGHT
BEGIN:STANDARD
TZOFFSETFROM:+0300
TZOFFSETTO:+0200
TZNAME:EET
DTSTART:20271031T010000
END:STANDARD
END:VTIMEZONE
BEGIN:VEVENT
DTSTART;TZID=Europe/Helsinki:20260419T180000
DTEND;TZID=Europe/Helsinki:20260419T210000
DTSTAMP:20260419T175140
CREATED:20260418T123727Z
LAST-MODIFIED:20260418T123727Z
UID:10004423-1776621600-1776632400@www.openmicfinland.fi
SUMMARY:Pethaus Jam Session @ Tampere
DESCRIPTION:📍 Pethaus\, Pispalan Valtatie 47\, 33250 Tampere\, Finland\n🗓 April 19\, 2026\n⏰ 6:00 PM – 9:00 PM\n🎤 Open jam session\n🎶 Style: Improvisational / experimental jam\n🎛 Backline: Piano\, drums\, guitar & bass amps\, percussion available\n💶 Admission: Not specified \nWhat to expect\nJoin us this Sunday for an open and creative jam session at Pethaus.\nThe focus is on improvisation and creating soundscapes together\, so bring your instrument and explore freely in a relaxed and collaborative atmosphere.\nA selection of instruments will be available on site\, but bringing your own is recommended.\nWhether you want to play\, experiment\, or simply listen — everyone is welcome. \nHouse band\nHenri Ijäs – saxophone\nPyry Pynnönen – winds\nMikko Aaltonen – bass\nPetri Pentikäinen – drums \nhttps://facebook.com/events/s/pethaus-jamit/1271159185081443/
URL:https://www.openmicfinland.fi/event/pethaus-jam-session-tampere/
LOCATION:Pethous\, Pispalan Valtatie 47\, Tampere\, 33250\, Finland
CATEGORIES:Music Jams
END:VEVENT
BEGIN:VEVENT
DTSTART;TZID=Europe/Helsinki:20260424T170000
DTEND;TZID=Europe/Helsinki:20260424T210000
DTSTAMP:20260419T175140
CREATED:20260406T230220Z
LAST-MODIFIED:20260406T230220Z
UID:10004421-1777050000-1777064400@www.openmicfinland.fi
SUMMARY:Frieman House Open Jam @ Raahe
DESCRIPTION:📍 Frieman House\, Kirkkokatu 14\, 92100 Raahe\, Finland\n🗓 April 24\, 2026\n⏰ 5:00 PM – 9:00 PM\n🎤 Open jam session\n🎶 Style: Mixed / live music jam\n🎛 Backline: Instruments available on site\n💶 Admission: Free entry \nWhat to expect\nRock Academy Raahe invites you to an open jam session at Frieman House. \nInstruments are available on site\, so you can easily join in and play together with others. Whether you’re a musician or just want to enjoy live music\, this relaxed and welcoming event is open to everyone. \nBring your friends and come experience a fun evening of live music and jamming. \nhttps://facebook.com/events/s/avoimet-jamit-friemanin-taloll/933012362662406/ \nOrganizer\nRock Academy Raahe & Raahe Youth Services
URL:https://www.openmicfinland.fi/event/frieman-house-open-jam-raahe/
LOCATION:Frieman House\, Kirkkokatu 14\, Raahe\, 92100\, Finland
CATEGORIES:Music Jams
END:VEVENT
BEGIN:VEVENT
DTSTART;TZID=Europe/Helsinki:20260428T190000
DTEND;TZID=Europe/Helsinki:20260428T230000
DTSTAMP:20260419T175140
CREATED:20260406T220031Z
LAST-MODIFIED:20260406T220031Z
UID:10004400-1777402800-1777417200@www.openmicfinland.fi
SUMMARY:Open Stage Pub Waski @ Vantaa
DESCRIPTION:📍 Pub Waski\, Kinorinne 1\, 01600 Vantaa\n📅 · from 19:00\n🎤 Open stage \nPub Waski launches a new open stage night\, welcoming music lovers of all levels.\nThe stage is open to anyone who wants to perform or simply enjoy live music in a relaxed pub atmosphere. \nThe evening is hosted by the house band trio\, bringing a rock-spirited energy and supporting performers throughout the night. \nWhat to expect:\n\n🎸 Open stage for all skill levels\n🥁 House band support\n🤝 Friendly\, inclusive atmosphere\n🎶 Audience welcome\n\nℹ️ Open Mic Finland is an independent information hub and does not organise this event.Follow Open Mic Finland to explore more open mics\, jams\, and creative stages across Finland. \n➡ Follow updates: Open Mic Finland Facebook \n.
URL:https://www.openmicfinland.fi/event/open-stage-pub-waski-vantaa-2/2026-04-28/
LOCATION:Pub Waski\, Kinorinne 1\, Vantaa\, 01600\, Finland
CATEGORIES:Music Jams
END:VEVENT
END:VCALENDAR