BEGIN:VCALENDAR
VERSION:2.0
PRODID:-//OpenmicFinland.fi - ECPv6.15.20//NONSGML v1.0//EN
CALSCALE:GREGORIAN
METHOD:PUBLISH
X-ORIGINAL-URL:https://www.openmicfinland.fi
X-WR-CALDESC:Events for OpenmicFinland.fi
REFRESH-INTERVAL;VALUE=DURATION:PT1H
X-Robots-Tag:noindex
X-PUBLISHED-TTL:PT1H
BEGIN:VTIMEZONE
TZID:Europe/Helsinki
BEGIN:DAYLIGHT
TZOFFSETFROM:+0200
TZOFFSETTO:+0300
TZNAME:EEST
DTSTART:20240331T010000
END:DAYLIGHT
BEGIN:STANDARD
TZOFFSETFROM:+0300
TZOFFSETTO:+0200
TZNAME:EET
DTSTART:20241027T010000
END:STANDARD
BEGIN:DAYLIGHT
TZOFFSETFROM:+0200
TZOFFSETTO:+0300
TZNAME:EEST
DTSTART:20250330T010000
END:DAYLIGHT
BEGIN:STANDARD
TZOFFSETFROM:+0300
TZOFFSETTO:+0200
TZNAME:EET
DTSTART:20251026T010000
END:STANDARD
BEGIN:DAYLIGHT
TZOFFSETFROM:+0200
TZOFFSETTO:+0300
TZNAME:EEST
DTSTART:20260329T010000
END:DAYLIGHT
BEGIN:STANDARD
TZOFFSETFROM:+0300
TZOFFSETTO:+0200
TZNAME:EET
DTSTART:20261025T010000
END:STANDARD
END:VTIMEZONE
BEGIN:VEVENT
DTSTART;TZID=Europe/Helsinki:20251220T190000
DTEND;TZID=Europe/Helsinki:20251220T220000
DTSTAMP:20260420T080055
CREATED:20251219T132800Z
LAST-MODIFIED:20251219T134752Z
UID:10003348-1766257200-1766268000@www.openmicfinland.fi
SUMMARY:Open Mic Night Norppa @ Helsinki
DESCRIPTION:📍 Norppa Base\, Tenderinlenkki 8\, 00520 Helsinki\n📅 Saturday 20.12.2025 | 19:00\n🎤 Free entry \nFree Entry Open Mic Night at Norppa Base invites singers and musicians to take the stage — it’s yours!\nBring your voice\, your instrument\, or just good vibes and enjoy a cozy night of live music and creativity. \nWhether you’re performing or cheering from the crowd\, everyone’s welcome. 💙🎻 \nℹ️ Open Mic Finland is an independent information hub and does not organise this event.
URL:https://www.openmicfinland.fi/event/open-mic-night-norppa-helsinki/
LOCATION:Norppa Base Helsinki\, Tenderinlenkki 8\, Helsinki\, 00520\, Finland
END:VEVENT
END:VCALENDAR