BEGIN:VCALENDAR
VERSION:2.0
PRODID:-//OpenmicFinland.fi - ECPv6.15.20//NONSGML v1.0//EN
CALSCALE:GREGORIAN
METHOD:PUBLISH
X-WR-CALNAME:OpenmicFinland.fi
X-ORIGINAL-URL:https://www.openmicfinland.fi
X-WR-CALDESC:Events for OpenmicFinland.fi
REFRESH-INTERVAL;VALUE=DURATION:PT1H
X-Robots-Tag:noindex
X-PUBLISHED-TTL:PT1H
BEGIN:VTIMEZONE
TZID:Europe/Helsinki
BEGIN:DAYLIGHT
TZOFFSETFROM:+0200
TZOFFSETTO:+0300
TZNAME:EEST
DTSTART:20240331T010000
END:DAYLIGHT
BEGIN:STANDARD
TZOFFSETFROM:+0300
TZOFFSETTO:+0200
TZNAME:EET
DTSTART:20241027T010000
END:STANDARD
BEGIN:DAYLIGHT
TZOFFSETFROM:+0200
TZOFFSETTO:+0300
TZNAME:EEST
DTSTART:20250330T010000
END:DAYLIGHT
BEGIN:STANDARD
TZOFFSETFROM:+0300
TZOFFSETTO:+0200
TZNAME:EET
DTSTART:20251026T010000
END:STANDARD
BEGIN:DAYLIGHT
TZOFFSETFROM:+0200
TZOFFSETTO:+0300
TZNAME:EEST
DTSTART:20260329T010000
END:DAYLIGHT
BEGIN:STANDARD
TZOFFSETFROM:+0300
TZOFFSETTO:+0200
TZNAME:EET
DTSTART:20261025T010000
END:STANDARD
END:VTIMEZONE
BEGIN:VEVENT
DTSTART;TZID=Europe/Helsinki:20251116T180000
DTEND;TZID=Europe/Helsinki:20251116T220000
DTSTAMP:20260420T110502
CREATED:20251103T181035Z
LAST-MODIFIED:20251103T181144Z
UID:10003138-1763316000-1763330400@www.openmicfinland.fi
SUMMARY:MayThem SING Songwriters’ Club @ Joensuu
DESCRIPTION:📍 Address: Mayhem Joensuu\, Koskikatu 5–7\, 80100 Joensuu\n🎤 Event: MayThem SING Songwriters’ Club\n🗓️ When: Sunday\, November 16\, 2025 · 18:00 → late evening\n🎙️ Format: Songwriters’ open stage — perform 2–3 of your own songs or simply come listen\n🎚️ Gear: Sound system\, keyboard\, guitar\, and a couple of vocal mics available on site\n👩‍🎤 Host: Regina Launivuo — songwriter\, actor\, and the evening’s warm-hearted host\n📧 Performer sign-up: regina.launivuo@gmail.com\n🎟️ Entry: Free\n\nJoin a heartfelt night in Joensuu where songwriters share their own creations in an inspiring\, welcoming atmosphere. Whether you’re performing or simply enjoying the music\, MayThem SING invites you to be part of the story. \n#openmicfinland #Joensuu #MayThemSING #songwritersclub #livemusic \n\nℹ️ Open Mic Finland is an independent information hub and does not organise this event. \n➡ Follow updates: Open Mic Finland Facebook
URL:https://www.openmicfinland.fi/event/maythem-sing-songwriters-club-joensuu/
LOCATION:Mayhem Joensuu\, Koskikatu 5–7\, Joensuu\, 80100\, Finland
CATEGORIES:Open Mic (General)
END:VEVENT
END:VCALENDAR