BEGIN:VCALENDAR
VERSION:2.0
PRODID:-//OpenmicFinland.fi - ECPv6.15.20//NONSGML v1.0//EN
CALSCALE:GREGORIAN
METHOD:PUBLISH
X-WR-CALNAME:OpenmicFinland.fi
X-ORIGINAL-URL:https://www.openmicfinland.fi
X-WR-CALDESC:Events for OpenmicFinland.fi
REFRESH-INTERVAL;VALUE=DURATION:PT1H
X-Robots-Tag:noindex
X-PUBLISHED-TTL:PT1H
BEGIN:VTIMEZONE
TZID:Europe/Helsinki
BEGIN:DAYLIGHT
TZOFFSETFROM:+0200
TZOFFSETTO:+0300
TZNAME:EEST
DTSTART:20250330T010000
END:DAYLIGHT
BEGIN:STANDARD
TZOFFSETFROM:+0300
TZOFFSETTO:+0200
TZNAME:EET
DTSTART:20251026T010000
END:STANDARD
BEGIN:DAYLIGHT
TZOFFSETFROM:+0200
TZOFFSETTO:+0300
TZNAME:EEST
DTSTART:20260329T010000
END:DAYLIGHT
BEGIN:STANDARD
TZOFFSETFROM:+0300
TZOFFSETTO:+0200
TZNAME:EET
DTSTART:20261025T010000
END:STANDARD
BEGIN:DAYLIGHT
TZOFFSETFROM:+0200
TZOFFSETTO:+0300
TZNAME:EEST
DTSTART:20270328T010000
END:DAYLIGHT
BEGIN:STANDARD
TZOFFSETFROM:+0300
TZOFFSETTO:+0200
TZNAME:EET
DTSTART:20271031T010000
END:STANDARD
END:VTIMEZONE
BEGIN:VEVENT
DTSTART;TZID=Europe/Helsinki:20260207T160000
DTEND;TZID=Europe/Helsinki:20260207T180000
DTSTAMP:20260420T213358
CREATED:20250915T091559Z
LAST-MODIFIED:20260206T202545Z
UID:10003999-1770480000-1770487200@www.openmicfinland.fi
SUMMARY:Amerikan Jamit @ Savonlinna
DESCRIPTION:**Amerikan Jamit @ Savonlinna**\n📍 Kulttuurikellari\, Olavinkatu 34\, 57130 Savonlinna\n🗓️ Fridays  starts at 18:00 (dates vary)\, jamming session ending time unknown.\n💸 Free entry \nEnjoy a relaxed evening of *old-time* acustic and folk tunes at Kulttuurikellari in Savonlinna. Expect familiar melodies\, a few new ones\, and a friendly group ready to play and sing together. Sheet music is shared on site\, and acoustic instruments are welcome. \n#OpenMicFinland #Savonlinna #MusicJam #Jamit \nℹ️ Open Mic Finland is an independent information hub and does not organise this event.Follow Open Mic Finland to explore more open mics\, jams\, and creative stages across Finland. \n➡ Follow updates: Open Mic Finland Facebook
URL:https://www.openmicfinland.fi/event/amerikan-jamit-savonlinna/2026-02-07/
LOCATION:Savonlinnan Kultuurikellari\, Olavinkatu 34\, 57130\, Savonlinna\, 57130\, Finland
CATEGORIES:Music Jams
END:VEVENT
END:VCALENDAR